Workbook

Sheet foxz

Sheet B2-Thu chi
K1: Biểu 2
A2: BIỂU 2: DỰ TOÁN THU, CHI NGÂN SÁCH NĂM 2025
A3: =#REF! -> #REF!
K4: Đơn vị: Triệu đồng
A5: Số TT | B5: CHỈ TIÊU | C5: Dự toán Tỉnh giao | D5: Dự toán HĐND cấp xã giao | E5: Trong đó
E7: Văn phòng HĐND, UBND | F7: Phòng Kinh tế | G7: Phòng Văn hoã - Xã hội | H7: Trung tâm hành chính công | I7: Văn phòng đảng uỷ | J7: Uỷ ban Mặt trận TQ Việt Nam | K7: Trung tâm dịch vụ công ích phường | L7: Các trường học | M7: Các trường học
A8: A | B8: B | C8: 1 | D8: 2=3+… | E8: 3 | F8: 4 | G8: 5 | H8: 6 | I8: 7 | J8: 8 | K8: 9 | L8: 10 | M8: 10
A9: A | B9: THU NGÂN SÁCH NHÀ NƯỚC TRÊN ĐỊA BÀN (I+II)
A10: I | B10: Thu nội địa
A11: - | B11: Trong đó: thu điều tiết được hưởng theo phân cấp
A12: II | B12: Các khoản huy động đóng góp
A13: B | B13: TỔNG CHI NGÂN SÁCH ĐỊA PHƯƠNG (I+II) | C13: =C14+C82 -> 124814 | D13: =SUM(E13:L13) -> 7565 | E13: =E14+E82 -> 0 | F13: =F14+F82 -> 2599 | G13: =G14+G82 -> 4451 | H13: =H14+H82 -> 0 | I13: =I14+I82 -> 0 | J13: =J14+J82 -> 0 | K13: =K14+K82 -> 60 | L13: =L14+L82 -> 455 | M13: =M14+M82 -> 455
A14: I | B14: Tổng chi cân đối ngân sách (1+2+3+4+5) | C14: =C15+C18+C81 -> 119792 | D14: =SUM(E14:K14) -> 3377 | E14: =E15+E18+E81 -> 0 | F14: =F15+F18+F81 -> 1420 | G14: =G15+G18+G81 -> 1957 | H14: =H15+H18+H81 -> 0 | I14: =I15+I18+I81 -> 0 | J14: =J15+J18+J81 -> 0 | K14: =K15+K18+K81 -> 0 | L14: =L15+L18+L81 -> 0 | M14: =M15+M18+M81 -> 0
A15: 1 | B15: Chi đầu tư phát triển | C15: =C16+C17 -> 1420 | D15: =SUM(E15:K15) -> 1420 | E15: =E16+E17 -> 0 | F15: =F16+F17 -> 1420 | G15: =G16+G17 -> 0 | H15: =H16+H17 -> 0 | I15: =I16+I17 -> 0 | J15: =J16+J17 -> 0 | K15: =K16+K17 -> 0 | L15: =L16+L17 -> 0 | M15: =M16+M17 -> 0
A16: 1.1 | B16: Chi đầu tư xây dựng cơ bản vốn trong nước | D16: =SUM(E16:K16) -> 0
A17: 1.2 | B17: Chi đầu tư từ nguồn thu tiền sử dụng đất | C17: 1420 | D17: 1420 | F17: 1420
A18: 2 | B18: Chi thường xuyên | C18: =C19+C30+C47+C52+C54+C55+C56+C57++C64+C71+C76+C77+C80 -> 110719 | D18: =D19+D30+D47+D52+D54+D55+D56+D57++D64+D71+D76+D77+D80 -> 1957 | E18: =E19+E30+E47+E52+E54+E55+E56+E57++E64+E71+E76+E77+E80 -> 0 | F18: =F19+F30+F47+F52+F54+F55+F56+F57++F64+F71+F76+F77+F80 -> 0 | G18: =G19+G30+G47+G52+G54+G55+G56+G57++G64+G71+G76+G77+G80 -> 1957 | H18: =H19+H30+H47+H52+H54+H55+H56+H57++H64+H71+H76+H77+H80 -> 0 | I18: =I19+I30+I47+I52+I54+I55+I56+I57++I64+I71+I76+I77+I80 -> 0 | J18: =J19+J30+J47+J52+J54+J55+J56+J57++J64+J71+J76+J77+J80 -> 0 | ... M18: =M19+M30+M47+M52+M54+M55+M56+M57++M64+M71+M76+M77+M80 -> 0
A19: 2.1 | B19: Chi sự nghiệp kinh tế và sự nghiệp khác | C19: =SUM(C20:C29) -> 6391 | D19: =SUM(E19:K19) -> 0 | E19: =SUM(E20:E29) -> 0 | F19: =SUM(F20:F29) -> 0 | G19: =SUM(G20:G29) -> 0 | H19: =SUM(H20:H29) -> 0 | I19: =SUM(I20:I29) -> 0 | J19: =SUM(J20:J29) -> 0 | K19: =SUM(K20:K29) -> 0 | L19: =SUM(L20:L29) -> 0 | M19: =SUM(M20:M29) -> 0
B20: - Sự nghiệp Nông nghiệp
B21: - Sự nghiệp Lâm nghiệp
B22: - Sự nghiệp Thủy lợi, Thủy sản
B23: - Sự nghiệp Giao thông | C23: 122
B24: - Sự nghiệp Kiến thiết thị chính | C24: 5086
B25: - Sự nghiệp Tài nguyên
B26: - Sự nghiệp khác | C26: 440
B27: - Sự nghiệp Kinh tế khác | C27: 743
B28: - Kinh phí hỗ trợ thuỷ lợi nhỏ, thuỷ lợi nội đồng theo Nghị quyết số 09/2019/NQ-HĐND ngày 10/12/2019 của HĐND tỉnh | D28: =SUM(E28:K28) -> 0
B29: - Kinh phí thực hiện Nghị quyết số 08/2019/NQ-HĐND ngày 10/12/2019 và Nghị quyết số 15/2021/NQ-HĐND ngày 17/7/2021 của HĐND tỉnh | D29: =SUM(E29:K29) -> 0
A30: 2.2 | B30: Chi sự nghiệp Giáo dục, Đào tạo và Dạy nghề | C30: =SUM(C31:C42) -> 78721 | D30: =SUM(E30:K30) -> 0 | E30: =SUM(E31:E42) -> 0 | F30: =SUM(F31:F42) -> 0 | G30: =SUM(G31:G42) -> 0 | H30: =SUM(H31:H42) -> 0 | I30: =SUM(I31:I42) -> 0 | J30: =SUM(J31:J42) -> 0 | K30: =SUM(K31:K42) -> 0 | L30: =SUM(L31:L42) -> 0 | M30: =SUM(M31:M42) -> 0
B31: - Sự nghiệp Giáo dục | C31: 72215
B32: - Sự nghiệp Đào tạo | C32: 58
B33: - Trung tâm Học tập cộng đồng
B34: - Hỗ trợ giáo viên mầm non ngoài công lập theo Nghị quyết số 64/2017/NQ-HĐND ngày 11/12/2017 của Hội đồng nhân dân tỉnh | C34: 297
B35: - Hỗ trợ chi phí học tập và miễn giảm học phí theo Nghị định số 81/2021/NĐ-CP ngày 27/8/2021 của Chính phủ; Nghị định số 97/2023/NĐ-CP ngày 31/12/2023 của Chính phủ | C35: 1597
B36: - Chính sách phát triển giáo dục mầm non theo Nghị định số 105/2020/NĐ-CP ngày 8/9/2020 của Chính phủ | C36: 46
B37: - Chính sách về giáo dục đối với người khuyết tật theo Thông tư liên tịch số 42/2013/TTLT-BGDĐT- BLĐTBXH - BTC ngày 31/12/2013 của Bộ Giáo dục và Đào tạo, Bộ Lao động - Thương binh và Xã hội, Bộ Tài chính | D37: =SUM(E37:K37) -> 0
B38: - Chính sách hỗ trợ học sinh và Trường phổ thông ở xã, thôn đặc biệt khó khăn theo Nghị định số 116/2016/NĐ-CP ngày 18/7/2016 của Chính phủ | D38: =SUM(E38:K38) -> 0
B39: - Kinh phí hỗ trợ chi phí học tập đối với sinh viên là người DTTS thuộc hộ nghèo, cận nghèo theo Quyết định số 66/2013/QĐ-TTg ngày 11/11/2013 của Thủ tướng Chính phủ | D39: =SUM(E39:K39) -> 0
B40: - Kinh phí hỗ trợ chính sách nội trú đối với học sinh, sinh viên học cao đẳng, trung cấp theo Quyết định số 53/2015/QĐ-TTg ngày 20/10/2015 của Thủ tướng Chính phủ | D40: =SUM(E40:K40) -> 0
B41: - Đối ứng kinh phí sự nghiệp thực hiện Chương trình mục tiêu quốc gia xây dựng nông thôn mới (chi tiết tại Nghị quyết về kế hoạch vốn thực hiện các Chương trình Mục tiêu quốc gia năm 2025) | D41: =SUM(E41:K41) -> 0
B42: - Sự nghiệp giáo dục, đào tạo khác | C42: =C43+C44+C45 -> 4508
B43: + Hỗ trợ cơ sở vật chất và các nhiệm vụ, cơ chế, chính sách, chế độ giáo dục | C43: 4214
B44: + Hỗ trợ kinh phí khen thưởng
B45: + Chi khác sự nghiệp Giáo dục, Đào tạo và Dạy nghề (bao gồm kinh phí phân bổ cho Phòng GDĐT các huyện, thành phố để thực hiện các nhiệm vụ chung thuộc lĩnh vực ngành) | C45: 294
B46: - Kinh phí thực hiện các lớp đào tạo, bồi dưỡng cán bộ, công chức, viên chức trên địa bàn tỉnh
A47: 2.3 | B47: Chi sự nghiệp Y tế | C47: =C48 -> 1372 | D47: =SUM(E47:K47) -> 0 | E47: =E48 -> 0 | F47: =F48 -> 0 | G47: =G48 -> 0 | H47: =H48 -> 0 | I47: =I48 -> 0 | J47: =J48 -> 0 | K47: =K48 -> 0 | L47: =L48 -> 0 | M47: =M48 -> 0
B48: - Kinh phí mua thẻ bảo hiểm y tế cho các đối tượng | C48: 1372
B50: - Sự nghiệp y tế khác
B51: - Kinh phí hỗ trợ cộng tác viên dân số theo Nghị quyết số 25/2021/NQ-HĐND ngày 09/12/2021 của Hội đồng nhân dân tỉnh
A52: 2.4 | B52: Chi sự nghiệp Khoa học và Công nghệ | D52: =SUM(E52:K52) -> 0
B53: - Trong đó: chi ứng dụng, chuyển giao công nghệ | D53: =SUM(E53:K53) -> 0
A54: 2.5 | B54: Chi sự nghiệp Văn hóa thông tin | C54: 373 | D54: =SUM(E54:K54) -> 373 | G54: 373
A55: 2.6 | B55: Chi sự nghiệp Phát thanh - Truyền hình | D55: =SUM(E55:K55) -> 0
A56: 2.7 | B56: Chi sự nghiệp Thể dục, Thể thao | C56: 24 | D56: =SUM(E56:K56) -> 24 | G56: 24
A57: 2.8 | B57: Chi đảm bảo xã hội | C57: =SUM(C58:C63) -> 1439 | D57: =SUM(E57:K57) -> 1439 | E57: =SUM(E58:E63) -> 0 | F57: =SUM(F58:F63) -> 0 | G57: =SUM(G58:G63) -> 1439 | H57: =SUM(H58:H63) -> 0 | I57: =SUM(I58:I63) -> 0 | J57: =SUM(J58:J63) -> 0 | K57: =SUM(K58:K63) -> 0 | L57: =SUM(L58:L63) -> 0 | M57: =SUM(M58:M63) -> 0
B58: - Kinh phí thăm hỏi, động viên đối tượng chính sách | C58: 16 | D58: =SUM(E58:K58) -> 16 | G58: 16
B59: - Kinh phí thực hiện chế độ trợ cấp các đối tượng bảo trợ xã hội theo Nghị định số 20/2021/NĐ-CP ngày 15/3/2021 của Chính phủ; Nghị định số 76/2024/NĐ-CP ngày 01/7/2024 của Chính phủ | C59: 1175 | D59: =SUM(E59:K59) -> 1175 | G59: 1175
B60: - Kinh phí hỗ trợ tiền điện hộ nghèo, hộ chính sách theo Quyết định số 28/2014/QĐ-TTg ngày 07/4/2014 của Thủ tướng Chính phủ | C60: 9 | D60: =SUM(E60:K60) -> 9 | G60: 9
B61: - Đảm bảo xã hội còn lại | C61: 121 | D61: =SUM(E61:K61) -> 121 | G61: 121
B62: - Kính phí trợ cấp mai táng phí cho các đối tượng hưởng tham gia kháng chiến | C62: 108 | D62: =SUM(E62:K62) -> 108 | G62: 108
B63: - Kinh phí thanh toán cho đơn vị cung cấp dịch vụ chi trả trợ cấp xã hội hàng tháng theo Đề án tại Quyết định số 852/QĐ-UBND ngày 27/5/2016 của UBND tỉnh | C63: 10 | D63: =SUM(E63:K63) -> 10 | G63: 10
A64: 2.9 | B64: Chi quản lý hành chính | C64: =SUM(C65:C70) -> 18503 | D64: =SUM(E64:K64) -> 0 | E64: =SUM(E65:E70) -> 0 | F64: =SUM(F65:F70) -> 0 | G64: =SUM(G65:G70) -> 0 | H64: =SUM(H65:H70) -> 0 | I64: =SUM(I65:I70) -> 0 | J64: =SUM(J65:J70) -> 0 | K64: =SUM(K65:K70) -> 0 | L64: =SUM(L65:L70) -> 0 | M64: =SUM(M65:M70) -> 0
B65: - Chi cho Đảng cộng sản Việt Nam | C65: 3351
B66: - Chi cho đoàn thể | C66: 4453
B67: - Chi quản lý nhà nước | C67: 9196
B68: - Kinh phí Huy hiệu Đảng theo Hướng dẫn số 56-HD/VPTW ngày 27/10/2015 của Văn phòng Trung ương Đảng | C68: 574
B69: - Trợ cấp hàng tháng đối với cán bộ xã đã nghỉ việc | C69: 174
B70: - Kinh phí Đại hội Đảng nhiệm kỳ 2025 - 2030 | C70: 755
A71: 2.10 | B71: Chi An ninh, Quốc phòng | C71: =C72+C73 -> 2455 | D71: =D72+D73 -> 0 | E71: =E72+E73 -> 0 | F71: =F72+F73 -> 0 | G71: =G72+G73 -> 0 | H71: =H72+H73 -> 0 | I71: =I72+I73 -> 0 | J71: =J72+J73 -> 0 | ... M71: =M72+M73 -> 0
B72: - Chi An ninh, trật tự, an toàn xã hội | C72: 1325
B73: - Chi Quốc phòng | C73: 1130
B74: - Hỗ trợ an ninh, quốc phòng các huyện Biên giới
B75: - Kinh phí thực hiện Luật An ninh trật tự ở cơ sở theo Nghị quyết số 05/2024/NQ-HĐND ngày 24/6/2024 của HĐND tỉnh
A76: 2.11 | B76: Chi sự nghiệp môi trường | D76: =SUM(E76:K76) -> 0
A77: 2.12 | B77: Chi khác ngân sách | C77: =SUM(C78:C79) -> 1320 | D77: =SUM(D78:D79) -> 0 | E77: =SUM(E78:E79) -> 0 | F77: =SUM(F78:F79) -> 0 | G77: =SUM(G78:G79) -> 0 | H77: =SUM(H78:H79) -> 0 | I77: =SUM(I78:I79) -> 0 | J77: =SUM(J78:J79) -> 0 | ... M77: =SUM(M78:M79) -> 0
B78: - Hỗ trợ thực hiện nhiệm vụ khác
B79: - Chi khác | C79: 1320
A80: 2.13 | B80: Hỗ trợ kinh phí thi đua khen thưởng (không bao gồm lĩnh vực sự nghiệp Giáo dục và Đào tạo) | C80: 121 | D80: =SUM(E80:K80) -> 121 | G80: 121
A81: 3 | B81: Chi dự phòng ngân sách | C81: 7653
A82: II | B82: CHI CÁC CHƯƠNG TRÌNH MTQG VÀ MỘT SỐ CHƯƠNG TRÌNH, DỰ ÁN, NHIỆM VỤ KHÁC | C82: =C83+C93 -> 5022 | D82: =D83+D93 -> 4188 | E82: =E83+E93 -> 0 | F82: =F83+F93 -> 1179 | G82: =G83+G93 -> 2494 | H82: =H83+H93 -> 0 | I82: =I83+I93 -> 0 | J82: =J83+J93 -> 0 | ... M82: =M83+M93 -> 455
A83: 1 | B83: Chi thực hiện các Chương trình Mục tiêu quốc gia | C83: =C84+C87+C90 -> 2013 | D83: =D84+D87+D90 -> 1179 | E83: =E84+E87+E90 -> 0 | F83: =F84+F87+F90 -> 1179 | G83: =G84+G87+G90 -> 0 | H83: =H84+H87+H90 -> 0 | I83: =I84+I87+I90 -> 0 | J83: =J84+J87+J90 -> 0 | K83: =K84+K87+K90 -> 0
A84: - | B84: Chương trình mục tiêu quốc gia phát triển kinh tế xã hội vùng đồng bào dân tộc thiểu số và miền núi | C84: =C86 -> 334 | D84: =SUM(E84:K84) -> 0
B85: + Vốn đầu tư | D85: =SUM(E85:K85) -> 0
A86: 16 | B86: Kinh phí sự nghiệp chương trình mục tiêu quốc gia phát triển kinh tế xã hội vùng đồng bào dân tộc thiểu số và miền núi | C86: 334
A87: - | B87: Chương trình mục tiêu quốc gia giảm nghèo bền vững | C87: =C89 -> 500 | D87: =SUM(E87:K87) -> 0
B88: + Vốn đầu tư | D88: =SUM(E88:K88) -> 0
A89: 10 | B89: Kinh phí sự nghiệp chương trình mục tiêu quốc gia giảm nghèo bền vững | C89: 500
A90: - | B90: Chương trình mục tiêu quốc gia xây dựng nông thôn mới | C90: =C91+C92 -> 1179 | D90: =D91+D92 -> 1179 | E90: =E91+E92 -> 0 | F90: =F91+F92 -> 1179 | G90: =G91+G92 -> 0 | H90: =H91+H92 -> 0 | I90: =I91+I92 -> 0 | J90: =J91+J92 -> 0 | K90: =K91+K92 -> 0
B91: + vốn đầu tư | C91: 779 | D91: =SUM(E91:K91) -> 779 | F91: 779
B92: + vốn sự nghiệp | C92: 400 | D92: =SUM(E92:K92) -> 400 | F92: 400
A93: 2 | B93: Chi từ nguồn hỗ trợ thực hiện các chế độ chính sách theo quy định | C93: =C94+C95+C101 -> 3009 | D93: =D94+D95+D101 -> 3009 | E93: =E94+E95+E101 -> 0 | F93: =F94+F95+F101 -> 0 | G93: =G94+G95+G101 -> 2494 | H93: =H94+H95+H101 -> 0 | I93: =I94+I95+I101 -> 0 | J93: =J94+J95+J101 -> 0 | ... M93: =M94+M95+M101 -> 455
A94: - | B94: Kinh phí biên chế giáo viên tăng thêm | C94: 455 | D94: =SUM(E94:L94) -> 455 | L94: 455 | M94: 455
A95: - | B95: Kinh phí thực hiện các chính sách an sinh xã hội, trong đó | C95: 2494 | D95: =SUM(E95:K95) -> 2494 | G95: 2494
A96: + | B96: Chính sách sự nghiệp giáo dục và đào tạo | D96: =SUM(E96:K96) -> 0
A97: + | B97: Chính sách sự nghiệp y tế (kinh phí mua thẻ bảo hiểm y tế cho các đối tượng) | C97: 1025 | D97: =SUM(E97:K97) -> 1025 | G97: 1025
A98: + | B98: Chính sách sự nghiệp đảm bảo xã hội | C98: =C99+C100 -> 1469 | D98: =SUM(E98:K98) -> 1469 | G98: 1469
B99: - Kinh phí hỗ trợ đóng bảo hiểm xã hội tự nguyện | D99: =SUM(E99:K99) -> 0
B100: - Kinh phí thực hiện chế độ trợ cấp các đối tượng bảo trợ xã hội theo Nghị định số 20/2021/NĐ-CP ngày 15/3/2021 của Chính phủ; Nghị định số 76/2024/NĐ-CP ngày 01/7/2024 của Chính phủ | C100: 1469 | D100: =SUM(E100:K100) -> 1469 | G100: 1469
A101: - | B101: Kinh phí thực hiện nhiệm vụ đảm bảo trật tự an toàn giao thông | C101: 60 | D101: =SUM(E101:K101) -> 60 | K101: 60
A102: III | B102: DỰ TOÁN KINH PHÍ ĐÃ SỬ DỤNG | C102: =SUM(C103:C103) -> 15174
...

Sheet B1- Cân đối
A2: BIỂU 1: CÂN ĐỐI DỰ TOÁN THU - CHI NGÂN SÁCH PHƯỜNG NĂM 2026
A3: =#REF! -> #REF!
C5: Đơn vị tính: Triệu đồng
A6: Phần thu | B6: Tổng số thu ngân sách phường | C6: Nội dung chi | D6: Tổng số chi ngân sách phường
A7: Tổng số thu | B7: =B8 -> 165001 | C7: Tổng số chi | D7: =D8+D13 -> 165001
A8: A Tổng số thu cân đối ngân sách | B8: =B9+B11 -> 165001 | C8: A Tổng số chi cân đối ngân sách | D8: =SUM(D9:D12) -> 165001
A9: 1 Thu điều tiết | B9: =B10 -> 48615 | C9: 1 Chi đầu tư phát triển | D9: 12015
A10: - Thu điều tiết hưởng theo phân cấp | B10: 48615 | C10: 2 Chi thường xuyên | D10: =152986-3246-D13 -> 149740
A11: 2 Thu bổ sung từ NS cấp trên | B11: =B12+B13 -> 116386 | C11: 3 Chi thực hiện CT MTQG | D11: 0
A12: Trong đó: - Bổ sung cân đối ngân sách | B12: 113680 | C12: 4 Dự phòng ngân sách | D12: 3246
A13: - Bổ sung có mục tiêu | B13: 2706

Sheet SGV

Sheet B1-TH
A1: BIỂU 1: DỰ TOÁN NĂM 2026 GIAO CHO CÁC ĐƠN VỊ TRƯỜNG HỌC CÔNG LẬP TRỰC THUỘC
A2: (Kèm theo Quyết định số QĐ-UBND ngày /9/2026 của UBND phường Lương Văn Tri)
L3: Đơn vị: Triệu đồng
A4: Số TT | B4: Ngành - Đơn vị | C4: Biên chế | E4: Hợp đồng lao động | F4: Dự toán Tỉnh giao | G4: Tổng cộng | H4: Trong đó | M4: Kinh phí tiết kiệm chi thường xuyên để cải cách tiền lương | N4: Dự toán giao năm 2026 sau sáp nhập
C5: Biên chế được giao | D5: Biên chế có mặt | H5: Lương và các khoản có tính chất lương của biên chế có mặt | I5: Hỗ trợ lương và các khoản có tính chất lương hợp đồng | J5: Chi khác theo định mức | K5: Tiền thưởng theo Nghị định 73/2024/NĐ-CP | L5: Dự toán thực hiện các mục tiêu, nhiệm vụ, chế độ, chính sách khác | O5: Chênh lệch
A6: A | B6: B | C6: 1 | D6: 2 | E6: 3 | F6: 4 | G6: 1=2+…6 | H6: 2 | I6: 3 | J6: 4 | K6: 5 | L6: 6 | M6: 7 | N6: 8=1-7
B7: TỔNG CỘNG | G7: =G8 -> 80363.215 | H7: =H8 -> 57832 | I7: =I8 -> 8495 | J7: =J8 -> 5515 | K7: =K8 -> 3434 | L7: =L8 -> 5087.215 | M7: =M8 -> 1612 | N7: =N8 -> 78751.215 | O7: =N7-F7 -> 78751.215 | P7: =1211+1061 -> 2272
A8: A | B8: Sự nghiệp giáo dục và đào tạo | G8: =G9+G29 -> 80363.215 | H8: =H9+H29 -> 57832 | I8: =I9+I29 -> 8495 | J8: =J9+J29 -> 5515 | K8: =K9+K29 -> 3434 | L8: =L9+L29 -> 5087.215 | M8: =M9+M29 -> 1612 | N8: =N9+N29 -> 78751.215
A9: I | B9: DỰ TOÁN GIAO NĂM 2026 | G9: =G10+G14+G16+G19+G23+G27 -> 79967.465 | H9: =H10+H14+H16+H19+H23+H27 -> 57832 | I9: =I10+I14+I16+I19+I23+I27 -> 8495 | J9: =J10+J14+J16+J19+J23+J27 -> 5515 | K9: =K10+K14+K16+K19+K23+K27 -> 3434 | L9: =L10+L14+L16+L19+L23+L27 -> 4691.465 | M9: =M10+M14+M16+M19+M23+M27 -> 1612 | N9: =N10+N14+N16+N19+N23+N27 -> 78355.465
A10: 1 | B10: Lương và các khoản có tính chất lương | F10: =69705+8450 -> 78155 | G10: =G11+G12+G13 -> 75276 | H10: =H11+H12+H13 -> 57832 | I10: =I11+I12+I13 -> 8495 | J10: =J11+J12+J13 -> 5515 | K10: =K11+K12+K13 -> 3434 | L10: =L11+L12+L13 -> 0 | M10: =M11+M12+M13 -> 1612 | N10: =N11+N12+N13 -> 73664 | O10: =N10-F10 -> -4491
A11: - | B11: Trường MN 19/5 | G11: =H11+I11+J11+K11+L11 -> 26639 | H11: 18333 | I11: 4960 | J11: 2110 | K11: 1236 | M11: =211+320 -> 531 | N11: =G11-M11 -> 26108
A12: - | B12: Trường TH Chi Lăng | G12: =H12+I12+J12+K12+L12 -> 26856 | H12: 22311 | I12: 1502 | J12: 1851 | K12: 1192 | M12: 185 | N12: =G12-M12 -> 26671
A13: - | B13: Trường THCS Chi Lăng | G13: =H13+I13+J13+K13+L13 -> 21781 | H13: 17188 | I13: 2033 | J13: 1554 | K13: 1006 | M13: =155+741 -> 896 | N13: =G13-M13 -> 20885
A14: 2 | B14: Chính sách phát triển giáo dục mầm non theo Nghị định số 105/2020/NĐ-CP ngày 8/9/2020 của Chính phủ ngày 8/9/2020) | F14: 39 | G14: =SUM(H14:L14) -> 41 | L14: =L15 -> 41 | N14: =G14-M14 -> 41 | O14: =N14-F14 -> 2
A15: - | B15: Trường MN 19/5 | G15: =H15+I15+J15+K15+L15 -> 41 | L15: 41 | N15: =G15-M15 -> 41
A16: 3 | B16: Miễn, giảm, hỗ trợ học phí, hỗ trợ chi phí học tập theo Nghị định 238/2025/NĐ-CP ngày 03/9/2025 của Chính Phủ | F16: =2400+252 -> 2652 | G16: =G17+G18 -> 2652 | L16: =L17+L18 -> 2652 | M16: =M17+M18 -> 0 | N16: =N17+N18 -> 2652 | O16: =N16-F16 -> 0
A17: - | B17: Trường MN 19/5 | G17: =H17+I17+J17+K17+L17 -> 800 | L17: =200+300+300 -> 800 | N17: =G17-M17 -> 800
A18: - | B18: Trường THCS Chi Lăng | G18: =H18+I18+J18+K18+L18 -> 1852 | L18: =1552+300 -> 1852 | N18: =G18-M18 -> 1852
A19: 4 | B19: Chính sách hỗ trợ học sinh và Trường phổ thông ở xã, thôn đặc biệt khó khăn theo Nghị định số 66/2025/NĐ-CP ngày 12/3/2025 của Chính phủ | F19: 14 | G19: =G20+G21+G22 -> 14 | L19: =L20+L21+L22 -> 14 | N19: =N20+N21+N22 -> 14 | O19: =N19-F19 -> 0
A20: - | B20: Trường MN 19/5 | G20: =H20+I20+J20+K20+L20 -> 6 | L20: =2+2+2 -> 6 | N20: =G20-M20 -> 6
A21: - | B21: Trường TH Chi Lăng | G21: =H21+I21+J21+K21+L21 -> 4 | L21: =2+2 -> 4 | N21: =G21-M21 -> 4
A22: - | B22: Trường THCS Chi Lăng | G22: =H22+I22+J22+K22+L22 -> 4 | L22: =2+2 -> 4 | N22: =G22-M22 -> 4
A23: 5 | B23: Kinh phí thực hiện chế độ phụ cấp ưu đãi đối với giáo viên trực tiếp giảng dạy người khuyết tật theo Nghị định số 28/2012/NĐ-CP ngày 10/4/2012 của Chính phủ | F23: 1364 | G23: =G24+G25+G26 -> 1364 | H23: =H24+H25+H26 -> 0 | I23: =I24+I25+I26 -> 0 | J23: =J24+J25+J26 -> 0 | K23: =K24+K25+K26 -> 0 | L23: =L24+L25+L26 -> 1364 | M23: =M24+M25+M26 -> 0 | N23: =N24+N25+N26 -> 1364 | O23: =N23-F23 -> 0
A24: - | B24: Trường MN 19/5 | G24: =H24+I24+J24+K24+L24 -> 64 | L24: =32+32 -> 64 | N24: =G24-M24 -> 64
A25: - | B25: Trường TH Chi Lăng | G25: =H25+I25+J25+K25+L25 -> 600 | L25: =350+250 -> 600 | N25: =G25-M25 -> 600
A26: - | B26: Trường THCS Chi Lăng | G26: =H26+I26+J26+K26+L26 -> 700 | L26: =500+200 -> 700 | N26: =G26-M26 -> 700
A27: 6 | B27: Kinh phí tinh giản biên chế NĐ 154/2025/NĐ-CP | G27: =G28 -> 620.465 | H27: =H28 -> 0 | I27: =I28 -> 0 | J27: =J28 -> 0 | K27: =K28 -> 0 | L27: =L28 -> 620.465 | M27: =M28 -> 0 | N27: =N28 -> 620.465
A28: - | B28: Trường THCS Chi Lăng | G28: =H28+I28+J28+K28+L28 -> 620.465 | L28: 620.465 | N28: =G28-M28 -> 620.465
A29: II | B29: DỰ TOÁN NĂM TRƯỚC CHUYỂN SANG | G29: =G30+G31+G32 -> 395.75 | H29: =H30+H31+H32 -> 0 | I29: =I30+I31+I32 -> 0 | J29: =J30+J31+J32 -> 0 | K29: =K30+K31+K32 -> 0 | L29: =L30+L31+L32 -> 395.75 | M29: =M30+M31+M32 -> 0 | N29: =N30+N31+N32 -> 395.75
A30: - | B30: Trường MN 19/5 | G30: =H30+I30+J30+K30+L30 -> 18.71 | L30: 18.71 | N30: =G30-M30 -> 18.71
A31: - | B31: Trường TH Chi Lăng | G31: =H31+I31+J31+K31+L31 -> 234.288 | L31: 234.288 | N31: =G31-M31 -> 234.288
A32: - | B32: Trường THCS Chi Lăng | G32: =H32+I32+J32+K32+L32 -> 142.752 | L32: 142.752 | N32: =G32-M32 -> 142.752

Sheet B2 -Chi tiết
A1: BIỂU 2: ĐIỀU CHỈNH DỰ TOÁN CHI NGÂN SÁCH NHÀ NƯỚC CHO CÁC ĐƠN VỊ TRƯỜNG HỌC CÔNG LẬP NĂM 2026 - SAU SÁP NHẬP
A2: (Kèm theo Quyết định số QĐ-UBND ngày /9/2026 của UBND phường Lương Văn Tri)
S3: ĐVT: Đồng
A4: STT | B4: Nội dung | C4: Dự toán chi theo định mức | D4: Lương và các khoản có tính chất lương | F4: Đảm bảo chi khác theo định mức | J4: Chế độ tiền thưởng theo Nghị định 73/2024/NĐ-CP | M4: Các chế độ chính sách khác | N4: Tiết kiệm thực hiện CCTL | P4: Dự toán giao năm 2026 (trước sáp nhập) | Q4: Điều chỉnh dự toán | S4: Dự toán giao năm 2026 sau điều chỉnh (sau sáp nhập) | T4: Ghi chú
Q5: Giảm | R5: Tăng
D6: Biên chế | E6: Hợp đồng | N6: Tiết kiệm 10% (*) | O6: Tiết kiệm 40%
A7: A | B7: B | C7: 1=2+3+4 | D7: 2 | E7: 3 | F7: 4 | G7: VS | H7: TD | I7: Điện | J7: 5 | K7: Biên chế | L7: Hợp đồng | M7: 6 | N7: 7=4*10% | O7: 8 | P7: 9=1+5+6-7-8 | Q7: 10 | R7: 11 | S7: 12=9-10+11 | T7: 13
B8: TỔNG CỘNG | C8: =C9+C45 -> 71842000000 | D8: =D9+D45 -> 57832000000 | E8: =E9+E45 -> 8495000000 | F8: =F9+F45 -> 5515000000 | G8: =G9+G45 -> 43.8 | H8: =H9+H45 -> 149 | I8: =I9+I45 -> 162 | J8: =J9+J45 -> 3434000000 | ... S8: =S9+S45 -> 78751215000
A9: I | B9: DỰ TOÁN GIAO NĂM 2026 | C9: =C10+C15+C20+C25+C30+C35+C40 -> 71842000000 | D9: =D10+D15+D20+D25+D30+D35+D40 -> 57832000000 | E9: =E10+E15+E20+E25+E30+E35+E40 -> 8495000000 | F9: =F10+F15+F20+F25+F30+F35+F40 -> 5515000000 | G9: =G10+G15+G20+G25+G30+G35+G40 -> 43.8 | H9: =H10+H15+H20+H25+H30+H35+H40 -> 149 | I9: =I10+I15+I20+I25+I30+I35+I40 -> 162 | J9: =J10+J15+J20+J25+J30+J35+J40 -> 3434000000 | ... S9: =S10+S15+S20+S25+S30+S35+S40 -> 78355465000
A10: 1 | B10: Trường MN Quảng Lạc | C10: =SUM(D10:F10) -> 5917000000 | D10: 4274000000 | E10: 1085000000 | F10: 558000000 | G10: 29.8 | J10: =ROUND(K10+L10,0) -> 291000000 | K10: 218000000 | L10: 73000000 | M10: 250000000 | N10: 56000000 | O10: 80000000 | P10: =C10+J10+M10-N10-O10 -> 6322000000 | Q10: =Q12+Q13+Q14 -> 6322000000 | R10: =R12+R13+R14 -> 0 | S10: =S11+S16+S21+S26+S31+S36+S41 -> 0
A11: - | B11: Tiết kiệm thực hiện CCTL | C11: =SUM(D11:F11) -> 136000000 | D11: 80000000 | F11: 56000000
A12: - | B12: Dự toán đã sử dụng đến 31/8/2026 | C12: =SUM(D12:F12) -> 4144764000 | D12: 3039806000 | E12: 652290000 | F12: =458668000-6000000 -> 452668000 | J12: =K12+L12 -> 145500000 | K12: 109000000 | L12: 36500000 | M12: 205960000 | P12: =C12+J12+M12-N12-O12 -> 4496224000 | Q12: =P12 -> 4496224000
A13: - | B13: Dự toán giữ lại | C13: =SUM(D13:F13) -> 6000000 | F13: 6000000 | P13: =C13+J13+M13-N13-O13 -> 6000000 | Q13: =P13 -> 6000000
A14: - | B14: Dự toán còn lại | C14: =C10-C11-C12-C13 -> 1630236000 | D14: =D10-D11-D12-D13 -> 1154194000 | E14: =E10-E11-E12-E13 -> 432710000 | F14: =F10-F11-F12-F13 -> 43332000 | G14: =G10-G11-G12-G13 -> 29.8 | H14: =H10-H11-H12-H13 -> 0 | I14: =I10-I11-I12-I13 -> 0 | J14: =J10-J11-J12-J13 -> 145500000 | ... M14: =M10-M11-M12-M13 -> 44040000 | P14: =C14+J14+M14-N14-O14 -> 1819776000 | Q14: =P14 -> 1819776000 | S14: =S10-S12 -> 0
A15: 2 | B15: Trường MN 19-5 | C15: =SUM(D15:F15) -> 8582000000 | D15: 6065000000 | E15: 1797000000 | F15: 720000000 | J15: =ROUND(K15+L15,0) -> 425000000 | K15: 306000000 | L15: 119000000 | M15: 351000000 | N15: 72000000 | O15: 120000000 | P15: =C15+J15+M15-N15-O15 -> 9166000000 | Q15: =Q17+Q18+Q19 -> 9166000000 | R15: =R17+R18+R19 -> 27019000000 | S15: =S17+S18+S19 -> 27019000000 | T15: Thành lập mới trên cơ sở sáp nhập 03 trường Mầm non (MN Quảng Lạc, MN 19-5, MN 8-3)
A16: - | B16: Tiết kiệm thực hiện CCTL | C16: =SUM(D16:F16) -> 192000000 | D16: 120000000 | F16: 72000000
A17: - | B17: Dự toán đã sử dụng đến 31/8/2026 | C17: =SUM(D17:F17) -> 5651091600 | D17: 4263539000 | E17: 1238344000 | F17: 149208600 | J17: =K17+L17 -> 212500000 | K17: 153000000 | L17: 59500000 | P17: =C17+J17+M17-N17-O17 -> 5863591600 | Q17: =P17 -> 5863591600 | R17: =P12+P17+P22 -> 18214482100 | S17: =R17 -> 18214482100
A18: - | B18: Dự toán giữ lại | C18: =SUM(D18:F18) -> 56000000 | F18: 56000000 | P18: =C18+J18+M18-N18-O18 -> 56000000 | Q18: =P18 -> 56000000 | R18: =P13+P18+P23 -> 73000000 | S18: =R18 -> 73000000
A19: - | B19: Dự toán còn lại | C19: =C15-C16-C17-C18 -> 2682908400 | D19: =D15-D16-D17-D18 -> 1681461000 | E19: =E15-E16-E17-E18 -> 558656000 | F19: =F15-F16-F17-F18 -> 442791400 | G19: =G15-G16-G17-G18 -> 0 | H19: =H15-H16-H17-H18 -> 0 | I19: =I15-I16-I17-I18 -> 0 | J19: =J15-J16-J17-J18 -> 212500000 | ... M19: =M15-M16-M17-M18 -> 351000000 | P19: =C19+J19+M19-N19-O19 -> 3246408400 | Q19: =P19 -> 3246408400 | R19: =P14+P19+P24 -> 8731517900 | S19: =R19 -> 8731517900
A20: 3 | B20: Trường MN 8-3 | C20: =SUM(D20:F20) -> 10904000000 | D20: 7994000000 | E20: 2078000000 | F20: 832000000 | J20: =ROUND(K20+L20,0) -> 520000000 | K20: 385000000 | L20: 135000000 | M20: 310000000 | N20: 83000000 | O20: 120000000 | P20: =C20+J20+M20-N20-O20 -> 11531000000 | Q20: =Q22+Q23+Q24 -> 11531000000 | S20: =P20-Q20+R20 -> 0
A21: - | B21: Tiết kiệm thực hiện CCTL | C21: =SUM(D21:F21) -> 203000000 | D21: 120000000 | F21: 83000000
A22: - | B22: Dự toán đã sử dụng đến 31/8/2026 | C22: =SUM(D22:F22) -> 7594666500 | D22: 5681503400 | E22: 1295163100 | F22: 618000000 | J22: =K22+L22 -> 260000000 | K22: 192500000 | L22: 67500000 | P22: =C22+J22+M22-N22-O22 -> 7854666500 | Q22: =P22 -> 7854666500
A23: - | B23: Dự toán giữ lại | C23: =SUM(D23:F23) -> 11000000 | F23: 11000000 | P23: =C23+J23+M23-N23-O23 -> 11000000 | Q23: =P23 -> 11000000
A24: - | B24: Dự toán còn lại | C24: =C20-C21-C22-C23 -> 3095333500 | D24: =D20-D21-D22-D23 -> 2192496600 | E24: =E20-E21-E22-E23 -> 782836900 | F24: =F20-F21-F22-F23 -> 120000000 | G24: =G20-G21-G22-G23 -> 0 | H24: =H20-H21-H22-H23 -> 0 | I24: =I20-I21-I22-I23 -> 0 | J24: =J20-J21-J22-J23 -> 260000000 | ... M24: =M20-M21-M22-M23 -> 310000000 | P24: =C24+J24+M24-N24-O24 -> 3665333500 | Q24: =P24 -> 3665333500
A25: 4 | B25: Trường TH Chi Lăng | C25: =SUM(D25:F25) -> 16105000000 | D25: 14221000000 | E25: 751000000 | F25: 1133000000 | H25: 40 | I25: 117 | J25: =ROUND(K25+L25,0) -> 745000000 | K25: 698000000 | L25: 47000000 | M25: 352000000 | N25: 113000000 | O25: 0 | P25: =C25+J25+M25-N25-O25 -> 17089000000 | Q25: =Q27+Q28+Q29 -> 17089000000 | R25: =R27+R28+R29 -> 27275000000 | S25: =S27+S28+S29 -> 27275000000 | T25: Thành lập mới trên cơ sở sáp nhập 02 trường Tiểu học (TH Chi Lăng, TH Quảng Lạc)
A26: - | B26: Tiết kiệm thực hiện CCTL | C26: =SUM(D26:F26) -> 113000000 | F26: 113000000
A27: - | B27: Dự toán đã sử dụng đến 31/8/2026 | C27: =SUM(D27:F27) -> 10839863249 | D27: 9596935200 | E27: 519356600 | F27: 723571449 | J27: =K27+L27 -> 392050000 | K27: 368550000 | L27: 23500000 | P27: =C27+J27+M27-N27-O27 -> 11231913249 | Q27: =P27 -> 11231913249 | R27: =P27+P32 -> 17993990500 | S27: =R27 -> 17993990500
A28: - | B28: Dự toán giữ lại | C28: =SUM(D28:F28) -> 53000000 | F28: 53000000 | P28: =C28+J28+M28-N28-O28 -> 53000000 | Q28: =P28 -> 53000000 | R28: =P28+P33 -> 83000000 | S28: =R28 -> 83000000
A29: - | B29: Dự toán còn lại | C29: =C25-C26-C27-C28 -> 5099136751 | D29: =D25-D26-D27-D28 -> 4624064800 | E29: =E25-E26-E27-E28 -> 231643400 | F29: =F25-F26-F27-F28 -> 243428551 | G29: =G25-G26-G27-G28 -> 0 | H29: =H25-H26-H27-H28 -> 40 | I29: =I25-I26-I27-I28 -> 117 | J29: =J25-J26-J27-J28 -> 352950000 | ... M29: =M25-M26-M27-M28 -> 352000000 | O29: =O25-O26-O27-O28 -> 0 | P29: =C29+J29+M29-N29-O29 -> 5804086751 | Q29: =P29 -> 5804086751 | R29: =P29+P34 -> 9198009500 | S29: =R29 -> 9198009500
A30: 5 | B30: Trường TH Quảng Lạc | C30: =SUM(D30:F30) -> 9559000000 | D30: 8090000000 | E30: 751000000 | F30: 718000000 | G30: 14 | H30: 19 | I30: 45 | J30: =ROUND(K30+L30,0) -> 447000000 | K30: 399000000 | L30: 48000000 | M30: 252000000 | N30: 72000000 | P30: =C30+J30+M30-N30-O30 -> 10186000000 | Q30: =Q32+Q33+Q34 -> 10186000000
A31: - | B31: Tiết kiệm thực hiện CCTL | C31: =SUM(D31:F31) -> 72000000 | F31: 72000000
A32: - | B32: Dự toán đã sử dụng đến 31/8/2026 | C32: =SUM(D32:F32) -> 6538577251 | D32: 5875593945 | E32: 323084000 | F32: 339899306 | J32: =K32+L32 -> 223500000 | K32: 199500000 | L32: 24000000 | P32: =C32+J32+M32-N32-O32 -> 6762077251 | Q32: =P32 -> 6762077251
A33: - | B33: Dự toán giữ lại | C33: =SUM(D33:F33) -> 30000000 | F33: 30000000 | P33: =C33+J33+M33-N33-O33 -> 30000000 | Q33: =P33 -> 30000000
A34: - | B34: Dự toán còn lại | C34: =C30-C31-C32-C33 -> 2918422749 | D34: =D30-D31-D32-D33 -> 2214406055 | E34: =E30-E31-E32-E33 -> 427916000 | F34: =F30-F31-F32-F33 -> 276100694 | G34: =G30-G31-G32-G33 -> 14 | H34: =H30-H31-H32-H33 -> 19 | I34: =I30-I31-I32-I33 -> 45 | J34: =J30-J31-J32-J33 -> 223500000 | ... M34: =M30-M31-M32-M33 -> 252000000 | P34: =C34+J34+M34-N34-O34 -> 3393922749 | Q34: =P34 -> 3393922749
A35: 6 | B35: Trường THCS Chi Lăng | C35: =SUM(D35:F35) -> 14242000000 | D35: 11573000000 | E35: 1590000000 | F35: 1079000000 | H35: 71 | J35: =ROUND(K35+L35,0) -> 689000000 | K35: 614000000 | L35: 75000000 | M35: 2054000000 | N35: 108000000 | O35: 621000000 | P35: =C35+J35+M35-N35-O35 -> 16256000000 | Q35: =Q37+Q38+Q39 -> 16256000000 | R35: =R37+R38+R39 -> 24061465000 | S35: =S37+S38+S39 -> 24061465000 | T35: Thành lập mới trên cơ sở sáp nhập 02 trường THCS (THCS Chi Lăng, THCS Quảng Lạc)
A36: - | B36: Tiết kiệm thực hiện CCTL | C36: =SUM(D36:F36) -> 729000000 | D36: 621000000 | F36: 108000000
A37: - | B37: Dự toán đã sử dụng đến 31/8/2026 | C37: =SUM(D37:F37) -> 9579319774 | D37: 8697563000 | E37: 683341000 | F37: 198415774 | J37: =K37+L37 -> 350411000 | K37: 308200000 | L37: 42211000 | P37: =C37+J37+M37-N37-O37 -> 9929730774 | Q37: =P37 -> 9929730774 | R37: =P37+P42 -> 15169069974 | S37: =R37 -> 15169069974
A38: - | B38: Dự toán giữ lại | C38: =SUM(D38:F38) -> 74000000 | F38: 74000000 | P38: =C38+J38+M38-N38-O38 -> 74000000 | Q38: =P38 -> 74000000 | R38: =P38+P43 -> 110000000 | S38: =R38 -> 110000000
A39: - | B39: Dự toán còn lại | C39: =C35-C36-C37-C38 -> 3859680226 | D39: =D35-D36-D37-D38 -> 2254437000 | E39: =E35-E36-E37-E38 -> 906659000 | F39: =F35-F36-F37-F38 -> 698584226 | G39: =G35-G36-G37-G38 -> 0 | H39: =H35-H36-H37-H38 -> 71 | I39: =I35-I36-I37-I38 -> 0 | J39: =J35-J36-J37-J38 -> 338589000 | ... M39: =M35-M36-M37-M38 -> 2054000000 | P39: =C39+J39+M39-N39-O39 -> 6252269226 | Q39: =P39 -> 6252269226 | R39: =P39+P44 -> 8782395026 | S39: =R39 -> 8782395026
A40: 7 | B40: Trường THCS Quảng Lạc | C40: =SUM(D40:F40) -> 6533000000 | D40: 5615000000 | E40: 443000000 | F40: 475000000 | H40: 19 | J40: =ROUND(K40+L40,0) -> 317000000 | K40: 298000000 | L40: 19000000 | M40: =502000000+620465000 -> 1122465000 | N40: 47000000 | O40: 120000000 | P40: =C40+J40+M40-N40-O40 -> 7805465000 | Q40: =Q42+Q43+Q44 -> 7805465000 | S40: =P40-Q40+R40 -> 0
A41: - | B41: Tiết kiệm thực hiện CCTL | C41: =SUM(D41:F41) -> 167000000 | D41: 120000000 | F41: 47000000
A42: - | B42: Dự toán đã sử dụng đến 31/8/2026 | C42: =SUM(D42:F42) -> 4165924200 | D42: 3915280200 | E42: 161588000 | F42: 89056000 | J42: =K42+L42 -> 152950000 | K42: 143450000 | L42: 9500000 | M42: 920465000 | P42: =C42+J42+M42-N42-O42 -> 5239339200 | Q42: =P42 -> 5239339200
A43: - | B43: Dự toán giữ lại | C43: =SUM(D43:F43) -> 36000000 | F43: 36000000 | P43: =C43+J43+M43-N43-O43 -> 36000000 | Q43: =P43 -> 36000000
A44: - | B44: Dự toán còn lại | C44: =C40-C41-C42-C43 -> 2164075800 | D44: =D40-D41-D42-D43 -> 1579719800 | E44: =E40-E41-E42-E43 -> 281412000 | F44: =F40-F41-F42-F43 -> 302944000 | G44: =G40-G41-G42-G43 -> 0 | H44: =H40-H41-H42-H43 -> 19 | I44: =I40-I41-I42-I43 -> 0 | J44: =J40-J41-J42-J43 -> 164050000 | ... M44: =M40-M41-M42-M43 -> 202000000 | P44: =C44+J44+M44-N44-O44 -> 2530125800 | Q44: =P44 -> 2530125800
A45: II | B45: DỰ TOÁN NĂM TRƯỚC CHUYỂN SANG | M45: =M46+M49+M52+M55+M58+M61 -> 395750000 | N45: =N46+N49+N52+N55+N58+N61 -> 0 | O45: =O46+O49+O52+O55+O58+O61 -> 0 | P45: =P46+P49+P52+P55+P58+P61 -> 395750000 | Q45: =Q46+Q49+Q52+Q55+Q58+Q61 -> 395750000 | R45: =R46+R49+R52+R55+R58+R61 -> 395750000 | S45: =S46+S49+S52+S55+S58+S61 -> 395750000
A46: 1 | B46: Trường MN 19-5 | M46: =M47 -> 6540000 | P46: =C46+J46+M46-N46-O46 -> 6540000 | Q46: =Q47 -> 6540000 | R46: =R47 -> 18710000 | S46: =S47 -> 18710000
A47: - | B47: Dự toán đã sử dụng đến 31/8/2026 | M47: 6540000 | P47: =C47+J47+M47-N47-O47 -> 6540000 | Q47: =P47 -> 6540000 | R47: =P47+P50 -> 18710000 | S47: =R47 -> 18710000
A48: - | B48: Dự toán còn lại | M48: =M46-M47 -> 0 | P48: =P46-P47 -> 0 | S48: =P48-Q48+R48 -> 0
A49: 2 | B49: Trường MN 8-3 | M49: =M50 -> 12170000 | P49: =C49+J49+M49-N49-O49 -> 12170000 | Q49: =Q50 -> 12170000 | S49: =P49-Q49+R49 -> 0
A50: - | B50: Dự toán đã sử dụng đến 31/8/2026 | M50: 12170000 | P50: =C50+J50+M50-N50-O50 -> 12170000 | Q50: =P50 -> 12170000 | S50: =P50-Q50+R50 -> 0
A51: - | B51: Dự toán còn lại | M51: =M49-M50 -> 0 | P51: =P49-P50 -> 0 | S51: =P51-Q51+R51 -> 0
A52: 3 | B52: Trường TH Chi Lăng | M52: 182904000 | P52: 182904000 | Q52: =Q53 -> 182904000 | R52: =R53 -> 234288000 | S52: =S53 -> 234288000
A53: - | B53: Dự toán đã sử dụng đến 31/8/2026 | M53: 182904000 | P53: =C53+J53+M53-N53-O53 -> 182904000 | Q53: =P53 -> 182904000 | R53: =P53+P56 -> 234288000 | S53: =R53 -> 234288000
A54: - | B54: Dự toán còn lại | M54: =M52-M53 -> 0 | S54: =P54-Q54+R54 -> 0
A55: 4 | B55: Trường TH Quảng Lạc | M55: 51384000 | P55: 51384000 | Q55: 51384000 | S55: =P55-Q55+R55 -> 0
A56: - | B56: Dự toán đã sử dụng đến 31/8/2026 | M56: 51384000 | P56: =C56+J56+M56-N56-O56 -> 51384000 | Q56: =P56 -> 51384000 | S56: =P56-Q56+R56 -> 0
A57: - | B57: Dự toán còn lại | M57: =M55-M56 -> 0 | S57: =P57-Q57+R57 -> 0
A58: 5 | B58: Trường THCS Chi Lăng | M58: 113088000 | P58: 113088000 | Q58: =Q59 -> 113088000 | R58: =R59 -> 142752000 | S58: =S59 -> 142752000
A59: - | B59: Dự toán đã sử dụng đến 31/8/2026 | M59: 113088000 | P59: =C59+J59+M59-N59-O59 -> 113088000 | Q59: =P59 -> 113088000 | R59: =P59+P62 -> 142752000 | S59: =R59 -> 142752000
A60: - | B60: Dự toán còn lại | M60: =M58-M59 -> 0 | S60: =P60-Q60+R60 -> 0
A61: 6 | B61: Trường THCS Quảng Lạc | M61: 29664000 | P61: 29664000 | Q61: =Q62 -> 29664000 | S61: =P61-Q61+R61 -> 0
A62: - | B62: Dự toán đã sử dụng đến 31/8/2026 | M62: 29664000 | P62: =C62+J62+M62-N62-O62 -> 29664000 | Q62: =P62 -> 29664000 | S62: =P62-Q62+R62 -> 0
A63: - | B63: Dự toán còn lại | M63: =M61-M62 -> 0 | S63: =P63-Q63+R63 -> 0

Sheet B4 -Trường học (2)
A1: BIỂU 4: DỰ TOÁN THU - CHI NGÂN SÁCH NHÀ NƯỚC NĂM 2026 CÁC ĐƠN VỊ TRƯỜNG TRỰC THUỘC PHƯỜNG
U4: Đơn vị tính: Triệu đồng
A5: STT | B5: Nội dung | C5: Biên chế được giao | D5: Biên chế có mặt | E5: Hợp đồng | F5: Dự toán chi theo định mức | H5: Lương và các khoản có tính chất lương | J5: Đảm bảo chi khác theo định mức | N5: Tiết kiệm 10% chi thường xuyên | O5: Dự toán giao theo nhiệm vụ đặc thù năm 2025 | P5: Chế độ tiền thưởng theo Nghị định 73/2024/NĐ-CP | S5: Hỗ trợ Lương và các khoản có tính chất lương hợp đồng | V5: Các chế độ chính sách | W5: Tổng dự toán năm 2026 giao cho đơn vị
G6: Tổng quỹ lương biên chế
H7: Lương và các khoản có tính chất lương | I7: Nâng lương
A8: A | B8: B | C8: 1 | D8: 2 | E8: 3 | F8: 4=5+8+10 | G8: 5=6+7 | H8: 6 | I8: 7 | J8: 8 | K8: VS | L8: TD | M8: Điện | N8: 9=8*10% | O8: 10=11+12+13 | P8: 11 | Q8: Biên chế | R8: Hợp đồng | S8: 12 | T8: HT lương HĐ | U8: Nâng lương | V8: 13 | W8: 14=4-9
B9: TỔNG CỘNG | C9: =C10+C14+C17 -> 256 | D9: =D10+D14+D17 -> 248 | E9: =E10+E14+E17 -> 91 | F9: =F10+F14+F17 -> 4.4915414e+09 | G9: =G10+G14+G17 -> 58846 | H9: =H10+H14+H17 -> 57832 | I9: =I10+I14+I17 -> 1014 | J9: =J10+J14+J17 -> 5513.5 | ... W9: =W10+W14+W17 -> 4.4915408e+09
A10: I | B10: Khối Mầm non | C10: =C11+C12+C13 -> 93 | D10: =D11+D12+D13 -> 88 | E10: =E11+E12+E13 -> 54 | F10: =F11+F12+F13 -> 9.1102711e+08 | G10: =G11+G12+G13 -> 18741 | H10: =H11+H12+H13 -> 18333 | I10: =I11+I12+I13 -> 408 | J10: =J11+J12+J13 -> 2109.8 | ... L10: =L11+L12+L13 -> 0 | N10: =N11+N12+N13 -> 211 | O10: =O11+O12+O13 -> 9.1100626e+08 | P10: =P11+P12+P13 -> 1236.2 | Q10: =Q11+Q12+Q13 -> 909.2 | R10: =R11+R12+R13 -> 327 | S10: =S11+S12+S13 -> 5027.3 | T10: =T11+T12+T13 -> 4959.9 | U10: =U11+U12+U13 -> 67.4 | ... W10: =W11+W12+W13 -> 9.110269e+08
A11: 1 | B11: Trường MN Quảng Lạc | C11: 25 | D11: 23 | E11: 12 | F11: =G11+J11+O11 -> 2.500064e+08 | G11: =H11+I11 -> 4428 | H11: 4274 | I11: 154 | J11: =(C11*16)+(4*16)+(8*8)+K11+L11+M11 -> 557.8 | K11: 29.8 | N11: 56 | O11: =P11+S11+V11 -> 2.5000141e+08 | P11: =Q11+R11 -> 291.3 | Q11: 217.9 | R11: 73.4 | S11: =T11+U11 -> 1123.6 | T11: 1084.6 | U11: 39 | V11: ='B2a -CĐCS các trường'!E10+'B2a -CĐCS các trường'!E14+'B2a -CĐCS các trường'!E22+'B2a -CĐCS các trường'!E30 -> 250000000 | W11: =F11-N11 -> 2.5000634e+08
A12: 2 | B12: Trường mầm non 19-5 | C12: 31 | D12: 30 | E12: 20 | F12: =G12+J12+O12 -> 351009127 | G12: =H12+I12 -> 6174 | H12: 6065 | I12: 109 | J12: =(C12*16)+(8*16)+(12*8)+K12+L12+M12 -> 720 | N12: 72 | O12: =P12+S12+V12 -> 351002233 | P12: =Q12+R12 -> 425 | Q12: 306.4 | R12: 118.6 | S12: =T12+U12 -> 1808 | T12: 1797 | U12: 11 | V12: ='B2a -CĐCS các trường'!E11+'B2a -CĐCS các trường'!E15+'B2a -CĐCS các trường'!E23+'B2a -CĐCS các trường'!E31 -> 351000000 | W12: =F12-N12 -> 351009055
A13: 3 | B13: Trường Mầm non 8-3 | C13: 37 | D13: 35 | E13: 22 | F13: =G13+J13+O13 -> 3.1001159e+08 | G13: =H13+I13 -> 8139 | H13: 7994 | I13: 145 | J13: =(C13*16)+(8*16)+(14*8)+K13+L13+M13 -> 832 | N13: 83 | O13: =P13+S13+V13 -> 3.1000262e+08 | P13: =Q13+R13 -> 519.9 | Q13: 384.9 | R13: 135 | S13: =T13+U13 -> 2095.7 | T13: 2078.3 | U13: 17.4 | V13: ='B2a -CĐCS các trường'!E12+'B2a -CĐCS các trường'!E16+'B2a -CĐCS các trường'!E24 -> 310000000 | W13: =F13-N13 -> 3.100115e+08
A14: II | B14: Khối Tiểu học | C14: =C15+C16 -> 89 | D14: =D15+D16 -> 88 | E14: =E15+E16 -> 16 | F14: =F15+F16 -> 6.0402724e+08 | G14: =G15+G16 -> 22693 | H14: =H15+H16 -> 22311 | I14: =I15+I16 -> 382 | J14: =J15+J16 -> 1850.5 | ... W14: =W15+W16 -> 6.0402705e+08
A15: 1 | B15: Trường TH Quảng Lạc | C15: 34 | D15: 33 | E15: 8 | F15: =G15+J15+O15 -> 2.5201016e+08 | G15: =H15+I15 -> 8248 | H15: 8090 | I15: 158 | J15: =(C15*16)+(4*16)+(4*8)+K15+L15+M15 -> 717.5 | K15: 14 | L15: 18.5 | M15: 45 | N15: 72 | O15: =P15+S15+V15 -> 2.520012e+08 | P15: =Q15+R15 -> 446.8 | Q15: 399.2 | R15: 47.6 | S15: =T15+U15 -> 751 | T15: 751 | U15: 0 | V15: ='B2a -CĐCS các trường'!E26+'B2a -CĐCS các trường'!E33 -> 252000000 | W15: =F15-N15 -> 2.5201009e+08
A16: 2 | B16: Trường TH Chi Lăng | C16: 55 | D16: 55 | E16: 8 | F16: =G16+J16+O16 -> 3.5201707e+08 | G16: =H16+I16 -> 14445 | H16: 14221 | I16: 224 | J16: =(C16*16)+(4*16)+(4*8)+K16+L16+M16 -> 1133 | L16: 40 | M16: 117 | N16: 113 | O16: =P16+S16+V16 -> 3.520015e+08 | P16: =Q16+R16 -> 744.8 | Q16: 697.8 | R16: 47 | S16: =T16+U16 -> 751 | T16: 751 | U16: 0 | V16: ='B2a -CĐCS các trường'!E25+'B2a -CĐCS các trường'!E32 -> 352000000 | W16: =F16-N16 -> 3.5201696e+08
A17: III | B17: Khối THCS | C17: =C18+C19 -> 74 | D17: =D18+D19 -> 72 | E17: =E18+E19 -> 21 | F17: =F18+F19 -> 2.976487e+09 | G17: =G18+G19 -> 17412 | H17: =H18+H19 -> 17188 | I17: =I18+I19 -> 224 | J17: =J18+J19 -> 1553.2 | K17: =K18+K19 -> 0 | N17: =N18+N19 -> 155 | O17: =O18+O19 -> 2976468054 | P17: =P18+P19 -> 1005.9 | Q17: =Q18+Q19 -> 911.6 | R17: =R18+R19 -> 94.3 | S17: =S18+S19 -> 2048.1 | T17: =T18+T19 -> 2032.1 | U17: =U18+U19 -> 16 | ... W17: =W18+W19 -> 2.9764869e+09
A18: 1 | B18: Trường THCS Chi Lăng | C18: 49 | D18: 48 | E18: 16 | F18: =G18+J18+O18 -> 2.054015e+09 | G18: =H18+I18 -> 11672 | H18: 11573 | I18: 99 | J18: =(C18*16)+(12*16)+(4*8)+K18+L18 -> 1078.7 | L18: 70.7 | N18: 108 | O18: =P18+S18+V18 -> 2054002295 | P18: =Q18+R18 -> 689.4 | Q18: 614.4 | R18: 75 | S18: =T18+U18 -> 1605.6 | T18: 1589.6 | U18: 16 | V18: ='B2a -CĐCS các trường'!E19+'B2a -CĐCS các trường'!E27+'B2a -CĐCS các trường'!E34 -> 2054000000 | W18: =F18-N18 -> 2.0540149e+09
A19: 2 | B19: Trường THCS Quảng Lạc | C19: 25 | D19: 24 | E19: 5 | F19: =G19+J19+O19 -> 9.2247197e+08 | G19: =H19+I19 -> 5740 | H19: 5615 | I19: 125 | J19: =(C19*16)+(2*16)+(3*8)+K19+L19 -> 474.5 | L19: 18.5 | N19: 47 | O19: =P19+S19+V19 -> 922465759 | P19: =Q19+R19 -> 316.5 | Q19: 297.2 | R19: 19.3 | S19: =T19+U19 -> 442.5 | T19: 442.5 | U19: 0 | V19: ='B2a -CĐCS các trường'!E20+'B2a -CĐCS các trường'!E28+'B2a -CĐCS các trường'!E37 -> 922465000 | W19: =F19-N19 -> 9.2247193e+08

Sheet B2a -CĐCS các trường
A1: BIỂU 2a: DỰ TOÁN CHI TIẾT CÁC CHẾ ĐỘ, CHÍNH SÁCH CÁC TRƯỜNG HỌC CÔNG LẬP NĂM 2026
A2: (Kèm theo Quyết định số /QĐ-UBND ngày /9/2026 của UBND phường Lương Văn Tri)
L3: Đơn vị tính: Đồng
A4: STT | B4: Nội dung | C4: Dự toán đã giao | F4: Dự toán đã sử dụng | I4: Dự toán còn lại trước sáp nhập | J4: Điều chỉnh dự toán | L4: Dự toán còn lại sau sáp nhập
C5: Tổng số | D5: Chuyển nguồn năm trước sang | E5: Dự toán giao năm 2026 | F5: Tổng số | G5: Chuyển nguồn năm trước sang | H5: Năm 2026 | J5: Giảm | K5: Tăng
A6: A | B6: B | C6: 1=2+3 | D6: 2 | E6: 3 | F6: 4=5+6 | G6: 5 | H6: 6 | I6: 7=1-4 | J6: 8 | K6: 9 | L6: 10=7-8+9
B7: TỔNG SỐ | C7: =C8+C36 -> 5087215000 | D7: =D8+D36 -> 395750000 | E7: =E8+E36 -> 4691465000 | F7: =F8+F36 -> 1522175000 | G7: =G8+G36 -> 395750000 | H7: =H8+H36 -> 1126425000 | I7: =I8+I36 -> 3565040000 | J7: =J8+J36 -> 808040000 | ... L7: =L8+L36 -> 3565040000
A8: I | B8: Chế độ chính sách | C8: =C9+C13+C21+C29 -> 4466750000 | D8: =D9+D13+D21+D29 -> 395750000 | E8: =E9+E13+E21+E29 -> 4071000000 | F8: =F9+F13+F21+F29 -> 901710000 | G8: =G9+G13+G21+G29 -> 395750000 | H8: =H9+H13+H21+H29 -> 505960000 | I8: =I9+I13+I21+I29 -> 3565040000 | J8: =J9+J13+J21+J29 -> 808040000 | ... L8: =L9+L13+L21+L29 -> 3565040000
A9: 1 | B9: Chính sách phát triển giáo dục mầm non theo Nghị định số 105/2020/NĐ-CP ngày 8/9/2020 của Chính phủ ngày 8/9/2020) | C9: =SUM(C10:C12) -> 47440000 | D9: =SUM(D10:D12) -> 6440000 | E9: =SUM(E10:E12) -> 41000000 | F9: =SUM(F10:F12) -> 12040000 | G9: =SUM(G10:G12) -> 6440000 | H9: =SUM(H10:H12) -> 5600000 | I9: =SUM(I10:I12) -> 35400000 | J9: =SUM(J10:J12) -> 18400000 | ... L9: =SUM(L10:L12) -> 35400000
A10: 1.1 | B10: Trường MN Quảng Lạc | C10: =D10+E10 -> 16000000 | E10: 16000000 | F10: =G10+H10 -> 5600000 | H10: 5600000 | I10: =C10-F10 -> 10400000 | J10: =I10 -> 10400000
A11: 1.2 | B11: Trường MN 19/5 | C11: =D11+E11 -> 20240000 | D11: 3240000 | E11: 17000000 | F11: =G11+H11 -> 3240000 | G11: 3240000 | I11: =C11-F11 -> 17000000 | K11: =J10+J12 -> 18400000 | L11: =I11-J11+K11 -> 35400000
A12: 1.3 | B12: Trường MN 8/3 | C12: =D12+E12 -> 11200000 | D12: 3200000 | E12: 8000000 | F12: =G12+H12 -> 3200000 | G12: 3200000 | I12: =C12-F12 -> 8000000 | J12: =I12 -> 8000000
A13: 2 | B13: Miễn, giảm, hỗ trợ học phí, hỗ trợ chi phí học tập theo Nghị định 238/2025/NĐ-CP ngày 03/9/2025 của Chính Phủ | C13: =SUM(C14:C20) -> 2856204000 | D13: =SUM(D14:D20) -> 204204000 | E13: =SUM(E14:E20) -> 2652000000 | F13: =SUM(F14:F20) -> 704204000 | G13: =SUM(G14:G20) -> 204204000 | H13: =SUM(H14:H20) -> 500000000 | I13: =SUM(I14:I20) -> 2152000000 | J13: =SUM(J14:J20) -> 300000000 | ... L13: =SUM(L14:L20) -> 2152000000
A14: 2.1 | B14: Trường MN Quảng Lạc | C14: =D14+E14 -> 200000000 | E14: 200000000 | F14: =G14+H14 -> 200000000 | H14: 200000000 | I14: =C14-F14 -> 0
A15: 2.2 | B15: Trường MN 19/5 | C15: =D15+E15 -> 303300000 | D15: 3300000 | E15: 300000000 | F15: =G15+H15 -> 3300000 | G15: 3300000 | I15: =C15-F15 -> 300000000 | K15: =J16 -> 300000000 | L15: =I15-J15+K15 -> 600000000
A16: 2.3 | B16: Trường MN 8/3 | C16: =D16+E16 -> 300600000 | D16: 600000 | E16: 300000000 | F16: =G16+H16 -> 600000 | G16: 600000 | I16: =C16-F16 -> 300000000 | J16: =I16 -> 300000000
A17: 2.4 | B17: Trường TH Chi Lăng | C17: =D17+E17 -> 182904000 | D17: 182904000 | F17: =G17+H17 -> 182904000 | G17: 182904000 | I17: =C17-F17 -> 0
A18: 2.5 | B18: Trường TH Quảng Lạc | C18: =D18+E18 -> 10200000 | D18: 10200000 | F18: =G18+H18 -> 10200000 | G18: 10200000 | I18: =C18-F18 -> 0
A19: 2.6 | B19: Trường THCS Chi Lăng | C19: =D19+E19 -> 1552000000 | E19: 1552000000 | F19: =G19+H19 -> 0 | I19: =C19-F19 -> 1552000000 | L19: =I19-J19+K19 -> 1552000000
A20: 2.7 | B20: Trường THCS Quảng Lạc | C20: =D20+E20 -> 307200000 | D20: 7200000 | E20: 300000000 | F20: =G20+H20 -> 307200000 | G20: 7200000 | H20: 300000000 | I20: =C20-F20 -> 0
A21: 3 | B21: Chính sách hỗ trợ học sinh và Trường phổ thông ở xã, thôn đặc biệt khó khăn theo Nghị định số 66/2025/NĐ-CP ngày 12/3/2025 của Chính phủ | C21: =SUM(C22:C28) -> 199106000 | D21: =SUM(D22:D28) -> 185106000 | E21: =SUM(E22:E28) -> 14000000 | F21: =SUM(F22:F28) -> 185466000 | G21: =SUM(G22:G28) -> 185106000 | H21: =SUM(H22:H28) -> 360000 | I21: =SUM(I22:I28) -> 13640000 | J21: =SUM(J22:J28) -> 7640000 | ... L21: =SUM(L22:L28) -> 13640000
A22: 3.1 | B22: Trường MN Quảng Lạc | C22: =D22+E22 -> 2000000 | E22: 2000000 | F22: =G22+H22 -> 360000 | H22: 360000 | I22: =C22-F22 -> 1640000 | J22: =I22 -> 1640000 | L22: =I22-J22+K22 -> 0
A23: 3.2 | B23: Trường MN 19/5 | C23: =D23+E23 -> 2000000 | E23: 2000000 | F23: =G23+H23 -> 0 | I23: =C23-F23 -> 2000000 | K23: =J22+J24 -> 3640000 | L23: =I23-J23+K23 -> 5640000
A24: 3.3 | B24: Trường MN 8/3 | C24: =D24+E24 -> 10370000 | D24: 8370000 | E24: 2000000 | F24: =G24+H24 -> 8370000 | G24: 8370000 | I24: =C24-F24 -> 2000000 | J24: =I24 -> 2000000 | L24: =I24-J24+K24 -> 0
A25: 3.4 | B25: Trường TH Chi Lăng | C25: =D25+E25 -> 2000000 | E25: 2000000 | F25: =G25+H25 -> 0 | I25: =C25-F25 -> 2000000 | K25: =I26 -> 2000000 | L25: =I25-J25+K25 -> 4000000
A26: 3.5 | B26: Trường TH Quảng Lạc | C26: =D26+E26 -> 43184000 | D26: 41184000 | E26: 2000000 | F26: =G26+H26 -> 41184000 | G26: 41184000 | I26: =C26-F26 -> 2000000 | J26: =I26 -> 2000000 | L26: =I26-J26+K26 -> 0
A27: 3.6 | B27: Trường THCS Chi Lăng | C27: =D27+E27 -> 115088000 | D27: 113088000 | E27: 2000000 | F27: =G27+H27 -> 113088000 | G27: 113088000 | I27: =C27-F27 -> 2000000 | K27: =I28 -> 2000000 | L27: =I27-J27+K27 -> 4000000
A28: 3.7 | B28: Trường THCS Quảng Lạc | C28: =D28+E28 -> 24464000 | D28: 22464000 | E28: 2000000 | F28: =G28+H28 -> 22464000 | G28: 22464000 | I28: =C28-F28 -> 2000000 | J28: =I28 -> 2000000 | L28: =I28-J28+K28 -> 0
A29: 4 | B29: Nhu cầu kinh phí phụ cấp ưu đãi dạy học sinh khuyết tật theo Nghị định 28/NĐ-CP năm học 2025-2026 | C29: =SUM(C30:C35) -> 1364000000 | D29: =SUM(D30:D35) -> 0 | E29: =SUM(E30:E35) -> 1364000000 | F29: =SUM(F30:F35) -> 0 | G29: =SUM(G30:G35) -> 0 | H29: =SUM(H30:H35) -> 0 | I29: =SUM(I30:I35) -> 1364000000 | J29: =SUM(J30:J35) -> 482000000 | ... L29: =SUM(L30:L35) -> 1364000000
A30: 4.1 | B30: Trường MN Quảng Lạc | C30: =D30+E30 -> 32000000 | E30: 32000000 | F30: =G30+H30 -> 0 | I30: =C30-F30 -> 32000000 | J30: =I30 -> 32000000
A31: 4.2 | B31: Trường MN 19/5 | C31: =D31+E31 -> 32000000 | E31: 32000000 | F31: =G31+H31 -> 0 | I31: =C31-F31 -> 32000000 | K31: =I30 -> 32000000 | L31: =I31-J31+K31 -> 64000000
A32: 4.3 | B32: Trường TH Chi Lăng | C32: =D32+E32 -> 350000000 | E32: 350000000 | F32: =G32+H32 -> 0 | I32: =C32-F32 -> 350000000 | K32: =I33 -> 250000000 | L32: =I32-J32+K32 -> 600000000
A33: 4.4 | B33: Trường TH Quảng Lạc | C33: =D33+E33 -> 250000000 | E33: 250000000 | F33: =G33+H33 -> 0 | I33: =C33-F33 -> 250000000 | J33: =I33 -> 250000000 | L33: =I33-J33+K33 -> 0
A34: 4.5 | B34: Trường THCS Chi Lăng | C34: =D34+E34 -> 500000000 | E34: 500000000 | F34: =G34+H34 -> 0 | I34: =C34-F34 -> 500000000 | K34: =I35 -> 200000000 | L34: =I34-J34+K34 -> 700000000
A35: 4.6 | B35: Trường THCS Quảng Lạc | C35: =D35+E35 -> 200000000 | E35: 200000000 | F35: =G35+H35 -> 0 | I35: =C35-F35 -> 200000000 | J35: =I35 -> 200000000
A36: II | B36: Kinh phí tinh giản biên chế NĐ 154/2025/NĐ-CP | C36: =C37 -> 620465000 | D36: =D37 -> 0 | E36: =E37 -> 620465000 | F36: =F37 -> 620465000 | G36: =G37 -> 0 | H36: =H37 -> 620465000 | I36: =I37 -> 0
A37: 1 | B37: Trường THCS Quảng Lạc | C37: =D37+E37 -> 620465000 | E37: 620465000 | F37: =G37+H37 -> 620465000 | H37: 620465000 | I37: =C37-F37 -> 0

Sheet B5
A2: BIỂU 5: DỰ TOÁN CHI NGÂN SÁCH TỪ NGUỒN BỔ SUNG MỤC TIÊU TRONG NĂM, CHUYỂN NGUỒN, KẾT DƯ CỦA XÃ, PHƯỜNG….
J5: Đơn vị: triệu đồng
A6: STT | B6: Nội dung | C6: Tổng cộng | D6: Văn phòng HĐND, UBND | E6: Phòng Kinh tế | F6: Phòng Văn hoã - Xã hội | G6: Trung tâm hành chính công | H6: Văn phòng đảng uỷ | I6: Uỷ ban Mặt trận TQ Việt Nam | J6: Trung tâm dịch vụ công ích phường | K6: Trường….
A7: A | B7: B | C7: 1 | D7: 2=3+.. | E7: 3 | F7: 4 | G7: 5 | H7: 6 | I7: 7 | J7: 8 | K7: 9
A8: I | B8: NGUỒN DỰ TOÁN BỔ SUNG TRONG NĂM | C8: =SUM(C9:C36) -> 16008
A9: 1 | B9: Kinh phí hỗ trợ Đề án phát triển giao thông nông thôn tỉnh Lạng Sơn, giai đoạn 2021 - 2025
A10: 2 | B10: Kinh phí thực hiện chính sách bảo hiểm y tế
A11: 3 | B11: Kinh phí thực hiện chế độ trợ cấp các đối tượng bảo trợ xã hội theo Nghị định số 20/2021/NĐ-CP ngày 15/3/2021 của Chính phủ; Nghị định số 76/2024/NĐ-CP ngày 01/7/2024 của Chính phủ
A12: 4 | B12: Kinh phí thực hiện chính sách tinh giản biên chế | C12: 11509
A13: 5 | B13: Kinh phí thực hiện Đề án xây dựng, quản lý, khai thác, bảo trì cầu trên đường giao thông nông thôn tỉnh Lạng Sơn, giai đoạn 2024 -2030
A14: 6 | B14: Kinh phí thu hồi tạm ứng kinh phí thực hiện dự án cầu Pắc Luồng, huyện Tràng Định
A15: 7 | B15: Kinh phí đầu tư xây dựng cơ bản thực hiện sắp xếp đơn vị hành chính cấp xã giai đoạn 2023 - 2025
A16: 8 | B16: Kinh phí hỗ trợ xoá nhà tạm, nhà dột nát | C16: 90
A17: 9 | B17: Kinh phí hỗ trợ bảo vệ phát triển đất trồng lúa năm 2025
A18: 10 | B18: Kinh phí sự nghiệp chương trình mục tiêu quốc gia giảm nghèo bền vững | C18: 500
A19: 11 | B19: Kinh phí tiền thưởng theo Nghị định số 73/2024/NĐ-CP ngày 30/6/2024 của Chính phủ | C19: 314
A20: 12 | B20: Kinh phí tổ chức chương trình giao lưu hội nghị quốc phòng biên giới Việt Trung
A21: 13 | B21: Kinh phí hỗ trợ tu bổ di tích nhà cao, phố cũ thị trấn Đình Lập, huyện Đình Lập
A22: 14 | B22: Kinh phí thực hiện Nghị định số 178/2024/NĐ-CP ngày 31/12/2024 và Nghị định số 67/2025/NĐ-CP ngày 15/3/2025 của Chính phủ
A23: 15 | B23: Kinh phí hỗ trợ lãi suất tín dụng theo Quyết định số 39/2007/QĐ-UBND ngày 21/12/2007 và Quyết định số 02/2017/QĐ-UBND ngày 09/02/2017 của Ủy ban nhân dân tỉnh; Nghị quyết số 08/2019/NQ-HĐND ngày 10/12/2019 và Nghị quyết số 15/2021/NQ-HĐND ngày 17/7/2021 của HĐND tỉnh
A24: 16 | B24: Kinh phí sự nghiệp chương trình mục tiêu quốc gia phát triển kinh tế xã hội vùng đồng bào dân tộc thiểu số và miền núi | C24: 334
A25: 17 | B25: Kinh phí Đại hội thể dục, thể thao
A26: 18 | B26: Hỗ trợ chi phí học tập và miễn giảm học phí theo Nghị định số 81/2021/NĐ-CP ngày 27/8/2021 của Chính phủ; Nghị định số 97/2023/NĐ-CP ngày 31/12/2023 của Chính phủ và kinh phí biên soạn lịch sử truyền thống
A27: 19 | B27: Kinh phí hỗ trợ xây dựng nông thôn mới (vốn đầu tư CTMTQG xây dựng nông thôn mới)
A28: 20 | B28: KP tổ chức Lễ phát động "Tết trồng cây đời đời nhớ ơn Bác Hồ" Xuân Ất Tỵ năm 2025
A29: 21 | B29: Kinh phí hỗ trợ đầu tư xây dựng cầu vào Đền Chi Lăng
A30: 22 | B30: Hỗ trợ huyện thực hiện thu phí năm 2024
A31: 23 | B31: Kinh phí hỗ trợ đầu tư cơ sở vật chất công nhận lại trường chuẩn năm 2025 tại Quyết định số 1329/QĐ-UBND ngày 20/6/2025 của UBND tỉnh
A32: 24 | B32: Kinh phí xử lý nước thải và vận hành hệ thống thoát nước | C32: 2761
A33: 25 | B33: Kinh phí thưởng vượt thu
A34: 26 | B34: Kinh phí hỗ trợ giáo viên mầm non ngoài công lập
A35: 27 | B35: Kinh phí thực hiện Tiểu dự án giải phóng mặt bằng thuộc dự án Đầu tư xây dựng tuyến cao tốc Đồng Đăng - Trà Lĩnh
A36: 28 | B36: Kinh phí hỗ trợ sắp xếp đơn vị hành chính cấp xã | C36: 500
A37: II | B37: NGUỒN CHUYỂN NGUỒN NĂM 2024 SANG NĂM 2025
A38: 1 | B38: Chi đầu tư phát triển thực hiện chuyển sang năm sau theo quy định của Luật đầu tư công. Trường hợp đặc biệt, Thủ tướng Chính phủ quyết định về việc cho phép chuyển nguồn sang năm sau nữa, nhưng không quá thời hạn giải ngân của dự án nằm trong kế hoạch đầu tư công trung hạn
B39: Chi tiết nhiệm vụ….
A40: 2 | B40: Chi mua sắm trang thiết bị đã đầy đủ hồ sơ, hợp đồng mua sắm trang thiết bị ký bước ngày 31 tháng 12 năm thực hiện dự toán
B41: Chi tiết nhiệm vụ….
A42: 3 | B42: Nguồn thực hiện chính sách tiền lương, phụ cấp, trợ cấp và các khoản tính theo tiền lương cơ sở, bảo trợ xã hội
B43: Chi tiết nhiệm vụ….
A44: 4 | B44: Kinh phí được giao tự chủ của các đơn vị sự nghiệp công lập và các cơ quan nhà nước; các khoản viện trợ không hoàn lại đã xác định cụ thể nhiệm vụ chi
B45: Chi tiết nhiệm vụ….
A46: 5 | B46: Các khoản dự toán được cấp có thẩm quyền bổ sung sau ngày 30 tháng 9 năm thực hiện dự toán, không bao gồm các khoản bổ sung do các đơn vị dự toán cấp trên điều chỉnh dự toán đã giao của các đơn vị dự toán trực thuộc
B47: Chi tiết nhiệm vụ….
A48: 6 | B48: Kinh phí nghiên cứu khoa học bố trí cho các đề tài, dự án nghiên cứu khoa học được cấp có thẩm quyền quyết định đang trong thời gian thực hiện (
B49: Chi tiết nhiệm vụ….
A50: 7 | B50: Các khoản tăng thu, tiết kiệm chi được sử dụng theo quy định tại khoản 2 Điều 59 của Luật ngân sách nhà nước được cấp có thẩm quyền quyết định cho phép sử dụng vào năm sau
B51: Chi tiết nhiệm vụ….
A52: 8 | B52: Kinh phí khác theo quy định của pháp luật
B53: Chi tiết nhiệm vụ….
A54: III | B54: NGUỒN KẾT DƯ NGÂN SÁCH 2024 CHUYỂN SANG 2025
B55: Chi tiết nhiệm vụ….
A58: K | B58: SỐ ĐÃ CHI 6 THÁNG ĐẦU NĂM 2025 | C58: =#REF! -> #REF! | D58: =#REF! -> #REF! | E58: 49911.389 | F58: 165149 | G58: 239918.07 | I58: 220874.3 | K58: 147424
B59: Trong đó: số đã chi của cấp huyện điều chuyển để quyết toán | C59: =#REF! -> #REF! | D59: =#REF! -> #REF! | E59: =E58 -> 49911.389 | F59: 165149 | G59: 239918.07 | I59: =I58 -> 220874.3 | K59: 147424
B60: kết dư | C60: 52824 | J60: 2657
C61: =C60-J60 -> 50167
B62: chuyển nguồn | C62: 2202629 | D62: =SUM(E62:K62) -> #REF! | E62: =E37+#REF!+#REF!+#REF!+#REF!+#REF!+#REF! -> #REF! | F62: =F37+#REF!+#REF!+#REF!+#REF!+#REF!+#REF!+#REF!+#REF! -> #REF! | G62: =G37+#REF!+#REF!+#REF!+#REF!+#REF! -> #REF! | H62: =H37+#REF!+#REF!+#REF!+#REF!+#REF!+#REF! -> #REF! | I62: =I37+#REF!+#REF!+#REF!+#REF! -> #REF! | J62: =J37+#REF!+#REF!+#REF!+#REF!+#REF!+#REF! -> #REF! | K62: =K37+#REF!+#REF!+#REF!+#REF! -> #REF!
C63: =C37-C62 -> -2202629 | D63: =SUM(E63:K63) -> 1327977 | E63: 121325 | F63: 208825 | G63: 383948 | H63: 100530 | I63: 132568 | J63: 188227 | K63: 192554
E64: =E62-E63 -> #REF! | F64: =#REF! -> #REF! | G64: =#REF! -> #REF! | H64: =#REF! -> #REF! | I64: =#REF! -> #REF! | J64: =#REF! -> #REF! | K64: =#REF! -> #REF!
K65: =K58+#REF!+#REF!+#REF!+#REF! -> #REF!
