Workbook

Sheet foxz

Sheet B2-Thu chi
K1: Biểu 2
A2: BIỂU 2: DỰ TOÁN THU, CHI NGÂN SÁCH NĂM 2025
A3: =#REF! -> #REF!
K4: Đơn vị: Triệu đồng
A5: Số TT | B5: CHỈ TIÊU | C5: Dự toán Tỉnh giao | D5: Dự toán HĐND cấp xã giao | E5: Trong đó
E7: Văn phòng HĐND, UBND | F7: Phòng Kinh tế | G7: Phòng Văn hoã - Xã hội | H7: Trung tâm hành chính công | I7: Văn phòng đảng uỷ | J7: Uỷ ban Mặt trận TQ Việt Nam | K7: Trung tâm dịch vụ công ích phường | L7: Các trường học | M7: Các trường học
A8: A | B8: B | C8: 1 | D8: 2=3+… | E8: 3 | F8: 4 | G8: 5 | H8: 6 | I8: 7 | J8: 8 | K8: 9 | L8: 10 | M8: 10
A9: A | B9: THU NGÂN SÁCH NHÀ NƯỚC TRÊN ĐỊA BÀN (I+II)
A10: I | B10: Thu nội địa
A11: - | B11: Trong đó: thu điều tiết được hưởng theo phân cấp
A12: II | B12: Các khoản huy động đóng góp
A13: B | B13: TỔNG CHI NGÂN SÁCH ĐỊA PHƯƠNG (I+II) | C13: =C14+C82 -> 124814 | D13: =SUM(E13:L13) -> 7565 | E13: =E14+E82 -> 0 | F13: =F14+F82 -> 2599 | G13: =G14+G82 -> 4451 | H13: =H14+H82 -> 0 | I13: =I14+I82 -> 0 | J13: =J14+J82 -> 0 | K13: =K14+K82 -> 60 | L13: =L14+L82 -> 455 | M13: =M14+M82 -> 455
A14: I | B14: Tổng chi cân đối ngân sách (1+2+3+4+5) | C14: =C15+C18+C81 -> 119792 | D14: =SUM(E14:K14) -> 3377 | E14: =E15+E18+E81 -> 0 | F14: =F15+F18+F81 -> 1420 | G14: =G15+G18+G81 -> 1957 | H14: =H15+H18+H81 -> 0 | I14: =I15+I18+I81 -> 0 | J14: =J15+J18+J81 -> 0 | K14: =K15+K18+K81 -> 0 | L14: =L15+L18+L81 -> 0 | M14: =M15+M18+M81 -> 0
A15: 1 | B15: Chi đầu tư phát triển | C15: =C16+C17 -> 1420 | D15: =SUM(E15:K15) -> 1420 | E15: =E16+E17 -> 0 | F15: =F16+F17 -> 1420 | G15: =G16+G17 -> 0 | H15: =H16+H17 -> 0 | I15: =I16+I17 -> 0 | J15: =J16+J17 -> 0 | K15: =K16+K17 -> 0 | L15: =L16+L17 -> 0 | M15: =M16+M17 -> 0
A16: 1.1 | B16: Chi đầu tư xây dựng cơ bản vốn trong nước | D16: =SUM(E16:K16) -> 0
A17: 1.2 | B17: Chi đầu tư từ nguồn thu tiền sử dụng đất | C17: 1420 | D17: 1420 | F17: 1420
A18: 2 | B18: Chi thường xuyên | C18: =C19+C30+C47+C52+C54+C55+C56+C57++C64+C71+C76+C77+C80 -> 110719 | D18: =D19+D30+D47+D52+D54+D55+D56+D57++D64+D71+D76+D77+D80 -> 1957 | E18: =E19+E30+E47+E52+E54+E55+E56+E57++E64+E71+E76+E77+E80 -> 0 | F18: =F19+F30+F47+F52+F54+F55+F56+F57++F64+F71+F76+F77+F80 -> 0 | G18: =G19+G30+G47+G52+G54+G55+G56+G57++G64+G71+G76+G77+G80 -> 1957 | H18: =H19+H30+H47+H52+H54+H55+H56+H57++H64+H71+H76+H77+H80 -> 0 | I18: =I19+I30+I47+I52+I54+I55+I56+I57++I64+I71+I76+I77+I80 -> 0 | J18: =J19+J30+J47+J52+J54+J55+J56+J57++J64+J71+J76+J77+J80 -> 0 | ... M18: =M19+M30+M47+M52+M54+M55+M56+M57++M64+M71+M76+M77+M80 -> 0
A19: 2.1 | B19: Chi sự nghiệp kinh tế và sự nghiệp khác | C19: =SUM(C20:C29) -> 6391 | D19: =SUM(E19:K19) -> 0 | E19: =SUM(E20:E29) -> 0 | F19: =SUM(F20:F29) -> 0 | G19: =SUM(G20:G29) -> 0 | H19: =SUM(H20:H29) -> 0 | I19: =SUM(I20:I29) -> 0 | J19: =SUM(J20:J29) -> 0 | K19: =SUM(K20:K29) -> 0 | L19: =SUM(L20:L29) -> 0 | M19: =SUM(M20:M29) -> 0
B20: - Sự nghiệp Nông nghiệp
B21: - Sự nghiệp Lâm nghiệp
B22: - Sự nghiệp Thủy lợi, Thủy sản
B23: - Sự nghiệp Giao thông | C23: 122
B24: - Sự nghiệp Kiến thiết thị chính | C24: 5086
B25: - Sự nghiệp Tài nguyên
B26: - Sự nghiệp khác | C26: 440
B27: - Sự nghiệp Kinh tế khác | C27: 743
B28: - Kinh phí hỗ trợ thuỷ lợi nhỏ, thuỷ lợi nội đồng theo Nghị quyết số 09/2019/NQ-HĐND ngày 10/12/2019 của HĐND tỉnh | D28: =SUM(E28:K28) -> 0
B29: - Kinh phí thực hiện Nghị quyết số 08/2019/NQ-HĐND ngày 10/12/2019 và Nghị quyết số 15/2021/NQ-HĐND ngày 17/7/2021 của HĐND tỉnh | D29: =SUM(E29:K29) -> 0
A30: 2.2 | B30: Chi sự nghiệp Giáo dục, Đào tạo và Dạy nghề | C30: =SUM(C31:C42) -> 78721 | D30: =SUM(E30:K30) -> 0 | E30: =SUM(E31:E42) -> 0 | F30: =SUM(F31:F42) -> 0 | G30: =SUM(G31:G42) -> 0 | H30: =SUM(H31:H42) -> 0 | I30: =SUM(I31:I42) -> 0 | J30: =SUM(J31:J42) -> 0 | K30: =SUM(K31:K42) -> 0 | L30: =SUM(L31:L42) -> 0 | M30: =SUM(M31:M42) -> 0
B31: - Sự nghiệp Giáo dục | C31: 72215
B32: - Sự nghiệp Đào tạo | C32: 58
B33: - Trung tâm Học tập cộng đồng
B34: - Hỗ trợ giáo viên mầm non ngoài công lập theo Nghị quyết số 64/2017/NQ-HĐND ngày 11/12/2017 của Hội đồng nhân dân tỉnh | C34: 297
B35: - Hỗ trợ chi phí học tập và miễn giảm học phí theo Nghị định số 81/2021/NĐ-CP ngày 27/8/2021 của Chính phủ; Nghị định số 97/2023/NĐ-CP ngày 31/12/2023 của Chính phủ | C35: 1597
B36: - Chính sách phát triển giáo dục mầm non theo Nghị định số 105/2020/NĐ-CP ngày 8/9/2020 của Chính phủ | C36: 46
B37: - Chính sách về giáo dục đối với người khuyết tật theo Thông tư liên tịch số 42/2013/TTLT-BGDĐT- BLĐTBXH - BTC ngày 31/12/2013 của Bộ Giáo dục và Đào tạo, Bộ Lao động - Thương binh và Xã hội, Bộ Tài chính | D37: =SUM(E37:K37) -> 0
B38: - Chính sách hỗ trợ học sinh và Trường phổ thông ở xã, thôn đặc biệt khó khăn theo Nghị định số 116/2016/NĐ-CP ngày 18/7/2016 của Chính phủ | D38: =SUM(E38:K38) -> 0
B39: - Kinh phí hỗ trợ chi phí học tập đối với sinh viên là người DTTS thuộc hộ nghèo, cận nghèo theo Quyết định số 66/2013/QĐ-TTg ngày 11/11/2013 của Thủ tướng Chính phủ | D39: =SUM(E39:K39) -> 0
B40: - Kinh phí hỗ trợ chính sách nội trú đối với học sinh, sinh viên học cao đẳng, trung cấp theo Quyết định số 53/2015/QĐ-TTg ngày 20/10/2015 của Thủ tướng Chính phủ | D40: =SUM(E40:K40) -> 0
B41: - Đối ứng kinh phí sự nghiệp thực hiện Chương trình mục tiêu quốc gia xây dựng nông thôn mới (chi tiết tại Nghị quyết về kế hoạch vốn thực hiện các Chương trình Mục tiêu quốc gia năm 2025) | D41: =SUM(E41:K41) -> 0
...

Sheet B1- Cân đối
A2: BIỂU 1: CÂN ĐỐI DỰ TOÁN THU - CHI NGÂN SÁCH PHƯỜNG NĂM 2026
A3: =#REF! -> #REF!
C5: Đơn vị tính: Triệu đồng
A6: Phần thu | B6: Tổng số thu ngân sách phường | C6: Nội dung chi | D6: Tổng số chi ngân sách phường
A7: Tổng số thu | B7: =B8 -> 165001 | C7: Tổng số chi | D7: =D8+D13 -> 165001
A8: A Tổng số thu cân đối ngân sách | B8: =B9+B11 -> 165001 | C8: A Tổng số chi cân đối ngân sách | D8: =SUM(D9:D12) -> 165001
A9: 1 Thu điều tiết | B9: =B10 -> 48615 | C9: 1 Chi đầu tư phát triển | D9: 12015
A10: - Thu điều tiết hưởng theo phân cấp | B10: 48615 | C10: 2 Chi thường xuyên | D10: =152986-3246-D13 -> 149740
A11: 2 Thu bổ sung từ NS cấp trên | B11: =B12+B13 -> 116386 | C11: 3 Chi thực hiện CT MTQG | D11: 0
A12: Trong đó: - Bổ sung cân đối ngân sách | B12: 113680 | C12: 4 Dự phòng ngân sách | D12: 3246
A13: - Bổ sung có mục tiêu | B13: 2706

Sheet SGV

Sheet B1-TH
A1: BIỂU 1: DỰ TOÁN NĂM 2026 GIAO CHO CÁC ĐƠN VỊ TRƯỜNG HỌC CÔNG LẬP TRỰC THUỘC
A2: (Kèm theo Quyết định số QĐ-UBND ngày /9/2026 của UBND phường Lương Văn Tri)
L3: Đơn vị: Triệu đồng
A4: Số TT | B4: Ngành - Đơn vị | C4: Biên chế | E4: Hợp đồng lao động | F4: Dự toán Tỉnh giao | G4: Tổng cộng | H4: Trong đó | M4: Kinh phí tiết kiệm chi thường xuyên để cải cách tiền lương | N4: Dự toán giao năm 2026 sau sáp nhập
C5: Biên chế được giao | D5: Biên chế có mặt | H5: Lương và các khoản có tính chất lương của biên chế có mặt | I5: Hỗ trợ lương và các khoản có tính chất lương hợp đồng | J5: Chi khác theo định mức | K5: Tiền thưởng theo Nghị định 73/2024/NĐ-CP | L5: Dự toán thực hiện các mục tiêu, nhiệm vụ, chế độ, chính sách khác | O5: Chênh lệch
A6: A | B6: B | C6: 1 | D6: 2 | E6: 3 | F6: 4 | G6: 1=2+…6 | H6: 2 | I6: 3 | J6: 4 | K6: 5 | L6: 6 | M6: 7 | N6: 8=1-7
B7: TỔNG CỘNG | G7: =G8 -> 80363.215 | H7: =H8 -> 57832 | I7: =I8 -> 8495 | J7: =J8 -> 5515 | K7: =K8 -> 3434 | L7: =L8 -> 5087.215 | M7: =M8 -> 1612 | N7: =N8 -> 78751.215 | O7: =N7-F7 -> 78751.215 | P7: =1211+1061 -> 2272
A8: A | B8: Sự nghiệp giáo dục và đào tạo | G8: =G9+G29 -> 80363.215 | H8: =H9+H29 -> 57832 | I8: =I9+I29 -> 8495 | J8: =J9+J29 -> 5515 | K8: =K9+K29 -> 3434 | L8: =L9+L29 -> 5087.215 | M8: =M9+M29 -> 1612 | N8: =N9+N29 -> 78751.215
A9: I | B9: DỰ TOÁN GIAO NĂM 2026 | G9: =G10+G14+G16+G19+G23+G27 -> 79967.465 | H9: =H10+H14+H16+H19+H23+H27 -> 57832 | I9: =I10+I14+I16+I19+I23+I27 -> 8495 | J9: =J10+J14+J16+J19+J23+J27 -> 5515 | K9: =K10+K14+K16+K19+K23+K27 -> 3434 | L9: =L10+L14+L16+L19+L23+L27 -> 4691.465 | M9: =M10+M14+M16+M19+M23+M27 -> 1612 | N9: =N10+N14+N16+N19+N23+N27 -> 78355.465
A10: 1 | B10: Lương và các khoản có tính chất lương | F10: =69705+8450 -> 78155 | G10: =G11+G12+G13 -> 75276 | H10: =H11+H12+H13 -> 57832 | I10: =I11+I12+I13 -> 8495 | J10: =J11+J12+J13 -> 5515 | K10: =K11+K12+K13 -> 3434 | L10: =L11+L12+L13 -> 0 | M10: =M11+M12+M13 -> 1612 | N10: =N11+N12+N13 -> 73664 | O10: =N10-F10 -> -4491
A11: - | B11: Trường MN 19/5 | G11: =H11+I11+J11+K11+L11 -> 26639 | H11: 18333 | I11: 4960 | J11: 2110 | K11: 1236 | M11: =211+320 -> 531 | N11: =G11-M11 -> 26108
A12: - | B12: Trường TH Chi Lăng | G12: =H12+I12+J12+K12+L12 -> 26856 | H12: 22311 | I12: 1502 | J12: 1851 | K12: 1192 | M12: 185 | N12: =G12-M12 -> 26671
A13: - | B13: Trường THCS Chi Lăng | G13: =H13+I13+J13+K13+L13 -> 21781 | H13: 17188 | I13: 2033 | J13: 1554 | K13: 1006 | M13: =155+741 -> 896 | N13: =G13-M13 -> 20885
A14: 2 | B14: Chính sách phát triển giáo dục mầm non theo Nghị định số 105/2020/NĐ-CP ngày 8/9/2020 của Chính phủ ngày 8/9/2020) | F14: 39 | G14: =SUM(H14:L14) -> 41 | L14: =L15 -> 41 | N14: =G14-M14 -> 41 | O14: =N14-F14 -> 2
A15: - | B15: Trường MN 19/5 | G15: =H15+I15+J15+K15+L15 -> 41 | L15: 41 | N15: =G15-M15 -> 41
A16: 3 | B16: Miễn, giảm, hỗ trợ học phí, hỗ trợ chi phí học tập theo Nghị định 238/2025/NĐ-CP ngày 03/9/2025 của Chính Phủ | F16: =2400+252 -> 2652 | G16: =G17+G18 -> 2652 | L16: =L17+L18 -> 2652 | M16: =M17+M18 -> 0 | N16: =N17+N18 -> 2652 | O16: =N16-F16 -> 0
A17: - | B17: Trường MN 19/5 | G17: =H17+I17+J17+K17+L17 -> 800 | L17: =200+300+300 -> 800 | N17: =G17-M17 -> 800
A18: - | B18: Trường THCS Chi Lăng | G18: =H18+I18+J18+K18+L18 -> 1852 | L18: =1552+300 -> 1852 | N18: =G18-M18 -> 1852
A19: 4 | B19: Chính sách hỗ trợ học sinh và Trường phổ thông ở xã, thôn đặc biệt khó khăn theo Nghị định số 66/2025/NĐ-CP ngày 12/3/2025 của Chính phủ | F19: 14 | G19: =G20+G21+G22 -> 14 | L19: =L20+L21+L22 -> 14 | N19: =N20+N21+N22 -> 14 | O19: =N19-F19 -> 0
A20: - | B20: Trường MN 19/5 | G20: =H20+I20+J20+K20+L20 -> 6 | L20: =2+2+2 -> 6 | N20: =G20-M20 -> 6
A21: - | B21: Trường TH Chi Lăng | G21: =H21+I21+J21+K21+L21 -> 4 | L21: =2+2 -> 4 | N21: =G21-M21 -> 4
A22: - | B22: Trường THCS Chi Lăng | G22: =H22+I22+J22+K22+L22 -> 4 | L22: =2+2 -> 4 | N22: =G22-M22 -> 4
A23: 5 | B23: Kinh phí thực hiện chế độ phụ cấp ưu đãi đối với giáo viên trực tiếp giảng dạy người khuyết tật theo Nghị định số 28/2012/NĐ-CP ngày 10/4/2012 của Chính phủ | F23: 1364 | G23: =G24+G25+G26 -> 1364 | H23: =H24+H25+H26 -> 0 | I23: =I24+I25+I26 -> 0 | J23: =J24+J25+J26 -> 0 | K23: =K24+K25+K26 -> 0 | L23: =L24+L25+L26 -> 1364 | M23: =M24+M25+M26 -> 0 | N23: =N24+N25+N26 -> 1364 | O23: =N23-F23 -> 0
A24: - | B24: Trường MN 19/5 | G24: =H24+I24+J24+K24+L24 -> 64 | L24: =32+32 -> 64 | N24: =G24-M24 -> 64
A25: - | B25: Trường TH Chi Lăng | G25: =H25+I25+J25+K25+L25 -> 600 | L25: =350+250 -> 600 | N25: =G25-M25 -> 600
A26: - | B26: Trường THCS Chi Lăng | G26: =H26+I26+J26+K26+L26 -> 700 | L26: =500+200 -> 700 | N26: =G26-M26 -> 700
A27: 6 | B27: Kinh phí tinh giản biên chế NĐ 154/2025/NĐ-CP | G27: =G28 -> 620.465 | H27: =H28 -> 0 | I27: =I28 -> 0 | J27: =J28 -> 0 | K27: =K28 -> 0 | L27: =L28 -> 620.465 | M27: =M28 -> 0 | N27: =N28 -> 620.465
A28: - | B28: Trường THCS Chi Lăng | G28: =H28+I28+J28+K28+L28 -> 620.465 | L28: 620.465 | N28: =G28-M28 -> 620.465
A29: II | B29: DỰ TOÁN NĂM TRƯỚC CHUYỂN SANG | G29: =G30+G31+G32 -> 395.75 | H29: =H30+H31+H32 -> 0 | I29: =I30+I31+I32 -> 0 | J29: =J30+J31+J32 -> 0 | K29: =K30+K31+K32 -> 0 | L29: =L30+L31+L32 -> 395.75 | M29: =M30+M31+M32 -> 0 | N29: =N30+N31+N32 -> 395.75
A30: - | B30: Trường MN 19/5 | G30: =H30+I30+J30+K30+L30 -> 18.71 | L30: 18.71 | N30: =G30-M30 -> 18.71
A31: - | B31: Trường TH Chi Lăng | G31: =H31+I31+J31+K31+L31 -> 234.288 | L31: 234.288 | N31: =G31-M31 -> 234.288
A32: - | B32: Trường THCS Chi Lăng | G32: =H32+I32+J32+K32+L32 -> 142.752 | L32: 142.752 | N32: =G32-M32 -> 142.752

Sheet B2 -Chi tiết
A1: BIỂU 2: ĐIỀU CHỈNH DỰ TOÁN CHI NGÂN SÁCH NHÀ NƯỚC CHO CÁC ĐƠN VỊ TRƯỜNG HỌC CÔNG LẬP NĂM 2026 - SAU SÁP NHẬP
A2: (Kèm theo Quyết định số QĐ-UBND ngày /9/2026 của UBND phường Lương Văn Tri)
S3: ĐVT: Đồng
A4: STT | B4: Nội dung | C4: Dự toán chi theo định mức | D4: Lương và các khoản có tính chất lương | F4: Đảm bảo chi khác theo định mức | J4: Chế độ tiền thưởng theo Nghị định 73/2024/NĐ-CP | M4: Các chế độ chính sách khác | N4: Tiết kiệm thực hiện CCTL | P4: Dự toán giao năm 2026 (trước sáp nhập) | Q4: Điều chỉnh dự toán | S4: Dự toán giao năm 2026 sau điều chỉnh (sau sáp nhập) | T4: Ghi chú
Q5: Giảm | R5: Tăng
D6: Biên chế | E6: Hợp đồng | N6: Tiết kiệm 10% (*) | O6: Tiết kiệm 40%
A7: A | B7: B | C7: 1=2+3+4 | D7: 2 | E7: 3 | F7: 4 | G7: VS | H7: TD | I7: Điện | J7: 5 | K7: Biên chế | L7: Hợp đồng | M7: 6 | N7: 7=4*10% | O7: 8 | P7: 9=1+5+6-7-8 | Q7: 10 | R7: 11 | S7: 12=9-10+11 | T7: 13
B8: TỔNG CỘNG | C8: =C9+C45 -> 71842000000 | D8: =D9+D45 -> 57832000000 | E8: =E9+E45 -> 8495000000 | F8: =F9+F45 -> 5515000000 | G8: =G9+G45 -> 43.8 | H8: =H9+H45 -> 149 | I8: =I9+I45 -> 162 | J8: =J9+J45 -> 3434000000 | ... S8: =S9+S45 -> 78751215000
A9: I | B9: DỰ TOÁN GIAO NĂM 2026 | C9: =C10+C15+C20+C25+C30+C35+C40 -> 71842000000 | D9: =D10+D15+D20+D25+D30+D35+D40 -> 57832000000 | E9: =E10+E15+E20+E25+E30+E35+E40 -> 8495000000 | F9: =F10+F15+F20+F25+F30+F35+F40 -> 5515000000 | G9: =G10+G15+G20+G25+G30+G35+G40 -> 43.8 | H9: =H10+H15+H20+H25+H30+H35+H40 -> 149 | I9: =I10+I15+I20+I25+I30+I35+I40 -> 162 | J9: =J10+J15+J20+J25+J30+J35+J40 -> 3434000000 | ... S9: =S10+S15+S20+S25+S30+S35+S40 -> 78355465000
A10: 1 | B10: Trường MN Quảng Lạc | C10: =SUM(D10:F10) -> 5917000000 | D10: 4274000000 | E10: 1085000000 | F10: 558000000 | G10: 29.8 | J10: =ROUND(K10+L10,0) -> 291000000 | K10: 218000000 | L10: 73000000 | M10: 250000000 | N10: 56000000 | O10: 80000000 | P10: =C10+J10+M10-N10-O10 -> 6322000000 | Q10: =Q12+Q13+Q14 -> 6322000000 | R10: =R12+R13+R14 -> 0 | S10: =S11+S16+S21+S26+S31+S36+S41 -> 0
A11: - | B11: Tiết kiệm thực hiện CCTL | C11: =SUM(D11:F11) -> 136000000 | D11: 80000000 | F11: 56000000
A12: - | B12: Dự toán đã sử dụng đến 31/8/2026 | C12: =SUM(D12:F12) -> 4144764000 | D12: 3039806000 | E12: 652290000 | F12: =458668000-6000000 -> 452668000 | J12: =K12+L12 -> 145500000 | K12: 109000000 | L12: 36500000 | M12: 205960000 | P12: =C12+J12+M12-N12-O12 -> 4496224000 | Q12: =P12 -> 4496224000
A13: - | B13: Dự toán giữ lại | C13: =SUM(D13:F13) -> 6000000 | F13: 6000000 | P13: =C13+J13+M13-N13-O13 -> 6000000 | Q13: =P13 -> 6000000
A14: - | B14: Dự toán còn lại | C14: =C10-C11-C12-C13 -> 1630236000 | D14: =D10-D11-D12-D13 -> 1154194000 | E14: =E10-E11-E12-E13 -> 432710000 | F14: =F10-F11-F12-F13 -> 43332000 | G14: =G10-G11-G12-G13 -> 29.8 | H14: =H10-H11-H12-H13 -> 0 | I14: =I10-I11-I12-I13 -> 0 | J14: =J10-J11-J12-J13 -> 145500000 | ... M14: =M10-M11-M12-M13 -> 44040000 | P14: =C14+J14+M14-N14-O14 -> 1819776000 | Q14: =P14 -> 1819776000 | S14: =S10-S12 -> 0
A15: 2 | B15: Trường MN 19-5 | C15: =SUM(D15:F15) -> 8582000000 | D15: 6065000000 | E15: 1797000000 | F15: 720000000 | J15: =ROUND(K15+L15,0) -> 425000000 | K15: 306000000 | L15: 119000000 | M15: 351000000 | N15: 72000000 | O15: 120000000 | P15: =C15+J15+M15-N15-O15 -> 9166000000 | Q15: =Q17+Q18+Q19 -> 9166000000 | R15: =R17+R18+R19 -> 27019000000 | S15: =S17+S18+S19 -> 27019000000 | T15: Thành lập mới trên cơ sở sáp nhập 03 trường Mầm non (MN Quảng Lạc, MN 19-5, MN 8-3)
A16: - | B16: Tiết kiệm thực hiện CCTL | C16: =SUM(D16:F16) -> 192000000 | D16: 120000000 | F16: 72000000
A17: - | B17: Dự toán đã sử dụng đến 31/8/2026 | C17: =SUM(D17:F17) -> 5651091600 | D17: 4263539000 | E17: 1238344000 | F17: 149208600 | J17: =K17+L17 -> 212500000 | K17: 153000000 | L17: 59500000 | P17: =C17+J17+M17-N17-O17 -> 5863591600 | Q17: =P17 -> 5863591600 | R17: =P12+P17+P22 -> 18214482100 | S17: =R17 -> 18214482100
A18: - | B18: Dự toán giữ lại | C18: =SUM(D18:F18) -> 56000000 | F18: 56000000 | P18: =C18+J18+M18-N18-O18 -> 56000000 | Q18: =P18 -> 56000000 | R18: =P13+P18+P23 -> 73000000 | S18: =R18 -> 73000000
A19: - | B19: Dự toán còn lại | C19: =C15-C16-C17-C18 -> 2682908400 | D19: =D15-D16-D17-D18 -> 1681461000 | E19: =E15-E16-E17-E18 -> 558656000 | F19: =F15-F16-F17-F18 -> 442791400 | G19: =G15-G16-G17-G18 -> 0 | H19: =H15-H16-H17-H18 -> 0 | I19: =I15-I16-I17-I18 -> 0 | J19: =J15-J16-J17-J18 -> 212500000 | ... M19: =M15-M16-M17-M18 -> 351000000 | P19: =C19+J19+M19-N19-O19 -> 3246408400 | Q19: =P19 -> 3246408400 | R19: =P14+P19+P24 -> 8731517900 | S19: =R19 -> 8731517900
A20: 3 | B20: Trường MN 8-3 | C20: =SUM(D20:F20) -> 10904000000 | D20: 7994000000 | E20: 2078000000 | F20: 832000000 | J20: =ROUND(K20+L20,0) -> 520000000 | K20: 385000000 | L20: 135000000 | M20: 310000000 | N20: 83000000 | O20: 120000000 | P20: =C20+J20+M20-N20-O20 -> 11531000000 | Q20: =Q22+Q23+Q24 -> 11531000000 | S20: =P20-Q20+R20 -> 0
A21: - | B21: Tiết kiệm thực hiện CCTL | C21: =SUM(D21:F21) -> 203000000 | D21: 120000000 | F21: 83000000
A22: - | B22: Dự toán đã sử dụng đến 31/8/2026 | C22: =SUM(D22:F22) -> 7594666500 | D22: 5681503400 | E22: 1295163100 | F22: 618000000 | J22: =K22+L22 -> 260000000 | K22: 192500000 | L22: 67500000 | P22: =C22+J22+M22-N22-O22 -> 7854666500 | Q22: =P22 -> 7854666500
A23: - | B23: Dự toán giữ lại | C23: =SUM(D23:F23) -> 11000000 | F23: 11000000 | P23: =C23+J23+M23-N23-O23 -> 11000000 | Q23: =P23 -> 11000000
A24: - | B24: Dự toán còn lại | C24: =C20-C21-C22-C23 -> 3095333500 | D24: =D20-D21-D22-D23 -> 2192496600 | E24: =E20-E21-E22-E23 -> 782836900 | F24: =F20-F21-F22-F23 -> 120000000 | G24: =G20-G21-G22-G23 -> 0 | H24: =H20-H21-H22-H23 -> 0 | I24: =I20-I21-I22-I23 -> 0 | J24: =J20-J21-J22-J23 -> 260000000 | ... M24: =M20-M21-M22-M23 -> 310000000 | P24: =C24+J24+M24-N24-O24 -> 3665333500 | Q24: =P24 -> 3665333500
A25: 4 | B25: Trường TH Chi Lăng | C25: =SUM(D25:F25) -> 16105000000 | D25: 14221000000 | E25: 751000000 | F25: 1133000000 | H25: 40 | I25: 117 | J25: =ROUND(K25+L25,0) -> 745000000 | K25: 698000000 | L25: 47000000 | M25: 352000000 | N25: 113000000 | O25: 0 | P25: =C25+J25+M25-N25-O25 -> 17089000000 | Q25: =Q27+Q28+Q29 -> 17089000000 | R25: =R27+R28+R29 -> 27275000000 | S25: =S27+S28+S29 -> 27275000000 | T25: Thành lập mới trên cơ sở sáp nhập 02 trường Tiểu học (TH Chi Lăng, TH Quảng Lạc)
A26: - | B26: Tiết kiệm thực hiện CCTL | C26: =SUM(D26:F26) -> 113000000 | F26: 113000000
A27: - | B27: Dự toán đã sử dụng đến 31/8/2026 | C27: =SUM(D27:F27) -> 10839863249 | D27: 9596935200 | E27: 519356600 | F27: 723571449 | J27: =K27+L27 -> 392050000 | K27: 368550000 | L27: 23500000 | P27: =C27+J27+M27-N27-O27 -> 11231913249 | Q27: =P27 -> 11231913249 | R27: =P27+P32 -> 17993990500 | S27: =R27 -> 17993990500
A28: - | B28: Dự toán giữ lại | C28: =SUM(D28:F28) -> 53000000 | F28: 53000000 | P28: =C28+J28+M28-N28-O28 -> 53000000 | Q28: =P28 -> 53000000 | R28: =P28+P33 -> 83000000 | S28: =R28 -> 83000000
A29: - | B29: Dự toán còn lại | C29: =C25-C26-C27-C28 -> 5099136751 | D29: =D25-D26-D27-D28 -> 4624064800 | E29: =E25-E26-E27-E28 -> 231643400 | F29: =F25-F26-F27-F28 -> 243428551 | G29: =G25-G26-G27-G28 -> 0 | H29: =H25-H26-H27-H28 -> 40 | I29: =I25-I26-I27-I28 -> 117 | J29: =J25-J26-J27-J28 -> 352950000 | ... M29: =M25-M26-M27-M28 -> 352000000 | O29: =O25-O26-O27-O28 -> 0 | P29: =C29+J29+M29-N29-O29 -> 5804086751 | Q29: =P29 -> 5804086751 | R29: =P29+P34 -> 9198009500 | S29: =R29 -> 9198009500
A30: 5 | B30: Trường TH Quảng Lạc | C30: =SUM(D30:F30) -> 9559000000 | D30: 8090000000 | E30: 751000000 | F30: 718000000 | G30: 14 | H30: 19 | I30: 45 | J30: =ROUND(K30+L30,0) -> 447000000 | K30: 399000000 | L30: 48000000 | M30: 252000000 | N30: 72000000 | P30: =C30+J30+M30-N30-O30 -> 10186000000 | Q30: =Q32+Q33+Q34 -> 10186000000
A31: - | B31: Tiết kiệm thực hiện CCTL | C31: =SUM(D31:F31) -> 72000000 | F31: 72000000
A32: - | B32: Dự toán đã sử dụng đến 31/8/2026 | C32: =SUM(D32:F32) -> 6538577251 | D32: 5875593945 | E32: 323084000 | F32: 339899306 | J32: =K32+L32 -> 223500000 | K32: 199500000 | L32: 24000000 | P32: =C32+J32+M32-N32-O32 -> 6762077251 | Q32: =P32 -> 6762077251
A33: - | B33: Dự toán giữ lại | C33: =SUM(D33:F33) -> 30000000 | F33: 30000000 | P33: =C33+J33+M33-N33-O33 -> 30000000 | Q33: =P33 -> 30000000
A34: - | B34: Dự toán còn lại | C34: =C30-C31-C32-C33 -> 2918422749 | D34: =D30-D31-D32-D33 -> 2214406055 | E34: =E30-E31-E32-E33 -> 427916000 | F34: =F30-F31-F32-F33 -> 276100694 | G34: =G30-G31-G32-G33 -> 14 | H34: =H30-H31-H32-H33 -> 19 | I34: =I30-I31-I32-I33 -> 45 | J34: =J30-J31-J32-J33 -> 223500000 | ... M34: =M30-M31-M32-M33 -> 252000000 | P34: =C34+J34+M34-N34-O34 -> 3393922749 | Q34: =P34 -> 3393922749
A35: 6 | B35: Trường THCS Chi Lăng | C35: =SUM(D35:F35) -> 14242000000 | D35: 11573000000 | E35: 1590000000 | F35: 1079000000 | H35: 71 | J35: =ROUND(K35+L35,0) -> 689000000 | K35: 614000000 | L35: 75000000 | M35: 2054000000 | N35: 108000000 | O35: 621000000 | P35: =C35+J35+M35-N35-O35 -> 16256000000 | Q35: =Q37+Q38+Q39 -> 16256000000 | R35: =R37+R38+R39 -> 24061465000 | S35: =S37+S38+S39 -> 24061465000 | T35: Thành lập mới trên cơ sở sáp nhập 02 trường THCS (THCS Chi Lăng, THCS Quảng Lạc)
A36: - | B36: Tiết kiệm thực hiện CCTL | C36: =SUM(D36:F36) -> 729000000 | D36: 621000000 | F36: 108000000
A37: - | B37: Dự toán đã sử dụng đến 31/8/2026 | C37: =SUM(D37:F37) -> 9579319774 | D37: 8697563000 | E37: 683341000 | F37: 198415774 | J37: =K37+L37 -> 350411000 | K37: 308200000 | L37: 42211000 | P37: =C37+J37+M37-N37-O37 -> 9929730774 | Q37: =P37 -> 9929730774 | R37: =P37+P42 -> 15169069974 | S37: =R37 -> 15169069974
A38: - | B38: Dự toán giữ lại | C38: =SUM(D38:F38) -> 74000000 | F38: 74000000 | P38: =C38+J38+M38-N38-O38 -> 74000000 | Q38: =P38 -> 74000000 | R38: =P38+P43 -> 110000000 | S38: =R38 -> 110000000
A39: - | B39: Dự toán còn lại | C39: =C35-C36-C37-C38 -> 3859680226 | D39: =D35-D36-D37-D38 -> 2254437000 | E39: =E35-E36-E37-E38 -> 906659000 | F39: =F35-F36-F37-F38 -> 698584226 | G39: =G35-G36-G37-G38 -> 0 | H39: =H35-H36-H37-H38 -> 71 | I39: =I35-I36-I37-I38 -> 0 | J39: =J35-J36-J37-J38 -> 338589000 | ... M39: =M35-M36-M37-M38 -> 2054000000 | P39: =C39+J39+M39-N39-O39 -> 6252269226 | Q39: =P39 -> 6252269226 | R39: =P39+P44 -> 8782395026 | S39: =R39 -> 8782395026
A40: 7 | B40: Trường THCS Quảng Lạc | C40: =SUM(D40:F40) -> 6533000000 | D40: 5615000000 | E40: 443000000 | F40: 475000000 | H40: 19 | J40: =ROUND(K40+L40,0) -> 317000000 | K40: 298000000 | L40: 19000000 | M40: =502000000+620465000 -> 1122465000 | N40: 47000000 | O40: 120000000 | P40: =C40+J40+M40-N40-O40 -> 7805465000 | Q40: =Q42+Q43+Q44 -> 7805465000 | S40: =P40-Q40+R40 -> 0
...

Sheet B4 -Trường học (2)
A1: BIỂU 4: DỰ TOÁN THU - CHI NGÂN SÁCH NHÀ NƯỚC NĂM 2026 CÁC ĐƠN VỊ TRƯỜNG TRỰC THUỘC PHƯỜNG
U4: Đơn vị tính: Triệu đồng
A5: STT | B5: Nội dung | C5: Biên chế được giao | D5: Biên chế có mặt | E5: Hợp đồng | F5: Dự toán chi theo định mức | H5: Lương và các khoản có tính chất lương | J5: Đảm bảo chi khác theo định mức | N5: Tiết kiệm 10% chi thường xuyên | O5: Dự toán giao theo nhiệm vụ đặc thù năm 2025 | P5: Chế độ tiền thưởng theo Nghị định 73/2024/NĐ-CP | S5: Hỗ trợ Lương và các khoản có tính chất lương hợp đồng | V5: Các chế độ chính sách | W5: Tổng dự toán năm 2026 giao cho đơn vị
G6: Tổng quỹ lương biên chế
H7: Lương và các khoản có tính chất lương | I7: Nâng lương
A8: A | B8: B | C8: 1 | D8: 2 | E8: 3 | F8: 4=5+8+10 | G8: 5=6+7 | H8: 6 | I8: 7 | J8: 8 | K8: VS | L8: TD | M8: Điện | N8: 9=8*10% | O8: 10=11+12+13 | P8: 11 | Q8: Biên chế | R8: Hợp đồng | S8: 12 | T8: HT lương HĐ | U8: Nâng lương | V8: 13 | W8: 14=4-9
B9: TỔNG CỘNG | C9: =C10+C14+C17 -> 256 | D9: =D10+D14+D17 -> 248 | E9: =E10+E14+E17 -> 91 | F9: =F10+F14+F17 -> 4.4915414e+09 | G9: =G10+G14+G17 -> 58846 | H9: =H10+H14+H17 -> 57832 | I9: =I10+I14+I17 -> 1014 | J9: =J10+J14+J17 -> 5513.5 | ... W9: =W10+W14+W17 -> 4.4915408e+09
A10: I | B10: Khối Mầm non | C10: =C11+C12+C13 -> 93 | D10: =D11+D12+D13 -> 88 | E10: =E11+E12+E13 -> 54 | F10: =F11+F12+F13 -> 9.1102711e+08 | G10: =G11+G12+G13 -> 18741 | H10: =H11+H12+H13 -> 18333 | I10: =I11+I12+I13 -> 408 | J10: =J11+J12+J13 -> 2109.8 | ... L10: =L11+L12+L13 -> 0 | N10: =N11+N12+N13 -> 211 | O10: =O11+O12+O13 -> 9.1100626e+08 | P10: =P11+P12+P13 -> 1236.2 | Q10: =Q11+Q12+Q13 -> 909.2 | R10: =R11+R12+R13 -> 327 | S10: =S11+S12+S13 -> 5027.3 | T10: =T11+T12+T13 -> 4959.9 | U10: =U11+U12+U13 -> 67.4 | ... W10: =W11+W12+W13 -> 9.110269e+08
A11: 1 | B11: Trường MN Quảng Lạc | C11: 25 | D11: 23 | E11: 12 | F11: =G11+J11+O11 -> 2.500064e+08 | G11: =H11+I11 -> 4428 | H11: 4274 | I11: 154 | J11: =(C11*16)+(4*16)+(8*8)+K11+L11+M11 -> 557.8 | K11: 29.8 | N11: 56 | O11: =P11+S11+V11 -> 2.5000141e+08 | P11: =Q11+R11 -> 291.3 | Q11: 217.9 | R11: 73.4 | S11: =T11+U11 -> 1123.6 | T11: 1084.6 | U11: 39 | V11: ='B2a -CĐCS các trường'!E10+'B2a -CĐCS các trường'!E14+'B2a -CĐCS các trường'!E22+'B2a -CĐCS các trường'!E30 -> 250000000 | W11: =F11-N11 -> 2.5000634e+08
A12: 2 | B12: Trường mầm non 19-5 | C12: 31 | D12: 30 | E12: 20 | F12: =G12+J12+O12 -> 351009127 | G12: =H12+I12 -> 6174 | H12: 6065 | I12: 109 | J12: =(C12*16)+(8*16)+(12*8)+K12+L12+M12 -> 720 | N12: 72 | O12: =P12+S12+V12 -> 351002233 | P12: =Q12+R12 -> 425 | Q12: 306.4 | R12: 118.6 | S12: =T12+U12 -> 1808 | T12: 1797 | U12: 11 | V12: ='B2a -CĐCS các trường'!E11+'B2a -CĐCS các trường'!E15+'B2a -CĐCS các trường'!E23+'B2a -CĐCS các trường'!E31 -> 351000000 | W12: =F12-N12 -> 351009055
A13: 3 | B13: Trường Mầm non 8-3 | C13: 37 | D13: 35 | E13: 22 | F13: =G13+J13+O13 -> 3.1001159e+08 | G13: =H13+I13 -> 8139 | H13: 7994 | I13: 145 | J13: =(C13*16)+(8*16)+(14*8)+K13+L13+M13 -> 832 | N13: 83 | O13: =P13+S13+V13 -> 3.1000262e+08 | P13: =Q13+R13 -> 519.9 | Q13: 384.9 | R13: 135 | S13: =T13+U13 -> 2095.7 | T13: 2078.3 | U13: 17.4 | V13: ='B2a -CĐCS các trường'!E12+'B2a -CĐCS các trường'!E16+'B2a -CĐCS các trường'!E24 -> 310000000 | W13: =F13-N13 -> 3.100115e+08
A14: II | B14: Khối Tiểu học | C14: =C15+C16 -> 89 | D14: =D15+D16 -> 88 | E14: =E15+E16 -> 16 | F14: =F15+F16 -> 6.0402724e+08 | G14: =G15+G16 -> 22693 | H14: =H15+H16 -> 22311 | I14: =I15+I16 -> 382 | J14: =J15+J16 -> 1850.5 | ... W14: =W15+W16 -> 6.0402705e+08
A15: 1 | B15: Trường TH Quảng Lạc | C15: 34 | D15: 33 | E15: 8 | F15: =G15+J15+O15 -> 2.5201016e+08 | G15: =H15+I15 -> 8248 | H15: 8090 | I15: 158 | J15: =(C15*16)+(4*16)+(4*8)+K15+L15+M15 -> 717.5 | K15: 14 | L15: 18.5 | M15: 45 | N15: 72 | O15: =P15+S15+V15 -> 2.520012e+08 | P15: =Q15+R15 -> 446.8 | Q15: 399.2 | R15: 47.6 | S15: =T15+U15 -> 751 | T15: 751 | U15: 0 | V15: ='B2a -CĐCS các trường'!E26+'B2a -CĐCS các trường'!E33 -> 252000000 | W15: =F15-N15 -> 2.5201009e+08
A16: 2 | B16: Trường TH Chi Lăng | C16: 55 | D16: 55 | E16: 8 | F16: =G16+J16+O16 -> 3.5201707e+08 | G16: =H16+I16 -> 14445 | H16: 14221 | I16: 224 | J16: =(C16*16)+(4*16)+(4*8)+K16+L16+M16 -> 1133 | L16: 40 | M16: 117 | N16: 113 | O16: =P16+S16+V16 -> 3.520015e+08 | P16: =Q16+R16 -> 744.8 | Q16: 697.8 | R16: 47 | S16: =T16+U16 -> 751 | T16: 751 | U16: 0 | V16: ='B2a -CĐCS các trường'!E25+'B2a -CĐCS các trường'!E32 -> 352000000 | W16: =F16-N16 -> 3.5201696e+08
A17: III | B17: Khối THCS | C17: =C18+C19 -> 74 | D17: =D18+D19 -> 72 | E17: =E18+E19 -> 21 | F17: =F18+F19 -> 2.976487e+09 | G17: =G18+G19 -> 17412 | H17: =H18+H19 -> 17188 | I17: =I18+I19 -> 224 | J17: =J18+J19 -> 1553.2 | K17: =K18+K19 -> 0 | N17: =N18+N19 -> 155 | O17: =O18+O19 -> 2976468054 | P17: =P18+P19 -> 1005.9 | Q17: =Q18+Q19 -> 911.6 | R17: =R18+R19 -> 94.3 | S17: =S18+S19 -> 2048.1 | T17: =T18+T19 -> 2032.1 | U17: =U18+U19 -> 16 | ... W17: =W18+W19 -> 2.9764869e+09
A18: 1 | B18: Trường THCS Chi Lăng | C18: 49 | D18: 48 | E18: 16 | F18: =G18+J18+O18 -> 2.054015e+09 | G18: =H18+I18 -> 11672 | H18: 11573 | I18: 99 | J18: =(C18*16)+(12*16)+(4*8)+K18+L18 -> 1078.7 | L18: 70.7 | N18: 108 | O18: =P18+S18+V18 -> 2054002295 | P18: =Q18+R18 -> 689.4 | Q18: 614.4 | R18: 75 | S18: =T18+U18 -> 1605.6 | T18: 1589.6 | U18: 16 | V18: ='B2a -CĐCS các trường'!E19+'B2a -CĐCS các trường'!E27+'B2a -CĐCS các trường'!E34 -> 2054000000 | W18: =F18-N18 -> 2.0540149e+09
A19: 2 | B19: Trường THCS Quảng Lạc | C19: 25 | D19: 24 | E19: 5 | F19: =G19+J19+O19 -> 9.2247197e+08 | G19: =H19+I19 -> 5740 | H19: 5615 | I19: 125 | J19: =(C19*16)+(2*16)+(3*8)+K19+L19 -> 474.5 | L19: 18.5 | N19: 47 | O19: =P19+S19+V19 -> 922465759 | P19: =Q19+R19 -> 316.5 | Q19: 297.2 | R19: 19.3 | S19: =T19+U19 -> 442.5 | T19: 442.5 | U19: 0 | V19: ='B2a -CĐCS các trường'!E20+'B2a -CĐCS các trường'!E28+'B2a -CĐCS các trường'!E37 -> 922465000 | W19: =F19-N19 -> 9.2247193e+08

Sheet B2a -CĐCS các trường
A1: BIỂU 2a: DỰ TOÁN CHI TIẾT CÁC CHẾ ĐỘ, CHÍNH SÁCH CÁC TRƯỜNG HỌC CÔNG LẬP NĂM 2026
A2: (Kèm theo Quyết định số /QĐ-UBND ngày /9/2026 của UBND phường Lương Văn Tri)
L3: Đơn vị tính: Đồng
A4: STT | B4: Nội dung | C4: Dự toán đã giao | F4: Dự toán đã sử dụng | I4: Dự toán còn lại trước sáp nhập | J4: Điều chỉnh dự toán | L4: Dự toán còn lại sau sáp nhập
C5: Tổng số | D5: Chuyển nguồn năm trước sang | E5: Dự toán giao năm 2026 | F5: Tổng số | G5: Chuyển nguồn năm trước sang | H5: Năm 2026 | J5: Giảm | K5: Tăng
A6: A | B6: B | C6: 1=2+3 | D6: 2 | E6: 3 | F6: 4=5+6 | G6: 5 | H6: 6 | I6: 7=1-4 | J6: 8 | K6: 9 | L6: 10=7-8+9
B7: TỔNG SỐ | C7: =C8+C36 -> 5087215000 | D7: =D8+D36 -> 395750000 | E7: =E8+E36 -> 4691465000 | F7: =F8+F36 -> 1522175000 | G7: =G8+G36 -> 395750000 | H7: =H8+H36 -> 1126425000 | I7: =I8+I36 -> 3565040000 | J7: =J8+J36 -> 808040000 | ... L7: =L8+L36 -> 3565040000
A8: I | B8: Chế độ chính sách | C8: =C9+C13+C21+C29 -> 4466750000 | D8: =D9+D13+D21+D29 -> 395750000 | E8: =E9+E13+E21+E29 -> 4071000000 | F8: =F9+F13+F21+F29 -> 901710000 | G8: =G9+G13+G21+G29 -> 395750000 | H8: =H9+H13+H21+H29 -> 505960000 | I8: =I9+I13+I21+I29 -> 3565040000 | J8: =J9+J13+J21+J29 -> 808040000 | ... L8: =L9+L13+L21+L29 -> 3565040000
A9: 1 | B9: Chính sách phát triển giáo dục mầm non theo Nghị định số 105/2020/NĐ-CP ngày 8/9/2020 của Chính phủ ngày 8/9/2020) | C9: =SUM(C10:C12) -> 47440000 | D9: =SUM(D10:D12) -> 6440000 | E9: =SUM(E10:E12) -> 41000000 | F9: =SUM(F10:F12) -> 12040000 | G9: =SUM(G10:G12) -> 6440000 | H9: =SUM(H10:H12) -> 5600000 | I9: =SUM(I10:I12) -> 35400000 | J9: =SUM(J10:J12) -> 18400000 | ... L9: =SUM(L10:L12) -> 35400000
A10: 1.1 | B10: Trường MN Quảng Lạc | C10: =D10+E10 -> 16000000 | E10: 16000000 | F10: =G10+H10 -> 5600000 | H10: 5600000 | I10: =C10-F10 -> 10400000 | J10: =I10 -> 10400000
A11: 1.2 | B11: Trường MN 19/5 | C11: =D11+E11 -> 20240000 | D11: 3240000 | E11: 17000000 | F11: =G11+H11 -> 3240000 | G11: 3240000 | I11: =C11-F11 -> 17000000 | K11: =J10+J12 -> 18400000 | L11: =I11-J11+K11 -> 35400000
A12: 1.3 | B12: Trường MN 8/3 | C12: =D12+E12 -> 11200000 | D12: 3200000 | E12: 8000000 | F12: =G12+H12 -> 3200000 | G12: 3200000 | I12: =C12-F12 -> 8000000 | J12: =I12 -> 8000000
A13: 2 | B13: Miễn, giảm, hỗ trợ học phí, hỗ trợ chi phí học tập theo Nghị định 238/2025/NĐ-CP ngày 03/9/2025 của Chính Phủ | C13: =SUM(C14:C20) -> 2856204000 | D13: =SUM(D14:D20) -> 204204000 | E13: =SUM(E14:E20) -> 2652000000 | F13: =SUM(F14:F20) -> 704204000 | G13: =SUM(G14:G20) -> 204204000 | H13: =SUM(H14:H20) -> 500000000 | I13: =SUM(I14:I20) -> 2152000000 | J13: =SUM(J14:J20) -> 300000000 | ... L13: =SUM(L14:L20) -> 2152000000
A14: 2.1 | B14: Trường MN Quảng Lạc | C14: =D14+E14 -> 200000000 | E14: 200000000 | F14: =G14+H14 -> 200000000 | H14: 200000000 | I14: =C14-F14 -> 0
A15: 2.2 | B15: Trường MN 19/5 | C15: =D15+E15 -> 303300000 | D15: 3300000 | E15: 300000000 | F15: =G15+H15 -> 3300000 | G15: 3300000 | I15: =C15-F15 -> 300000000 | K15: =J16 -> 300000000 | L15: =I15-J15+K15 -> 600000000
A16: 2.3 | B16: Trường MN 8/3 | C16: =D16+E16 -> 300600000 | D16: 600000 | E16: 300000000 | F16: =G16+H16 -> 600000 | G16: 600000 | I16: =C16-F16 -> 300000000 | J16: =I16 -> 300000000
A17: 2.4 | B17: Trường TH Chi Lăng | C17: =D17+E17 -> 182904000 | D17: 182904000 | F17: =G17+H17 -> 182904000 | G17: 182904000 | I17: =C17-F17 -> 0
A18: 2.5 | B18: Trường TH Quảng Lạc | C18: =D18+E18 -> 10200000 | D18: 10200000 | F18: =G18+H18 -> 10200000 | G18: 10200000 | I18: =C18-F18 -> 0
A19: 2.6 | B19: Trường THCS Chi Lăng | C19: =D19+E19 -> 1552000000 | E19: 1552000000 | F19: =G19+H19 -> 0 | I19: =C19-F19 -> 1552000000 | L19: =I19-J19+K19 -> 1552000000
A20: 2.7 | B20: Trường THCS Quảng Lạc | C20: =D20+E20 -> 307200000 | D20: 7200000 | E20: 300000000 | F20: =G20+H20 -> 307200000 | G20: 7200000 | H20: 300000000 | I20: =C20-F20 -> 0
A21: 3 | B21: Chính sách hỗ trợ học sinh và Trường phổ thông ở xã, thôn đặc biệt khó khăn theo Nghị định số 66/2025/NĐ-CP ngày 12/3/2025 của Chính phủ | C21: =SUM(C22:C28) -> 199106000 | D21: =SUM(D22:D28) -> 185106000 | E21: =SUM(E22:E28) -> 14000000 | F21: =SUM(F22:F28) -> 185466000 | G21: =SUM(G22:G28) -> 185106000 | H21: =SUM(H22:H28) -> 360000 | I21: =SUM(I22:I28) -> 13640000 | J21: =SUM(J22:J28) -> 7640000 | ... L21: =SUM(L22:L28) -> 13640000
A22: 3.1 | B22: Trường MN Quảng Lạc | C22: =D22+E22 -> 2000000 | E22: 2000000 | F22: =G22+H22 -> 360000 | H22: 360000 | I22: =C22-F22 -> 1640000 | J22: =I22 -> 1640000 | L22: =I22-J22+K22 -> 0
A23: 3.2 | B23: Trường MN 19/5 | C23: =D23+E23 -> 2000000 | E23: 2000000 | F23: =G23+H23 -> 0 | I23: =C23-F23 -> 2000000 | K23: =J22+J24 -> 3640000 | L23: =I23-J23+K23 -> 5640000
A24: 3.3 | B24: Trường MN 8/3 | C24: =D24+E24 -> 10370000 | D24: 8370000 | E24: 2000000 | F24: =G24+H24 -> 8370000 | G24: 8370000 | I24: =C24-F24 -> 2000000 | J24: =I24 -> 2000000 | L24: =I24-J24+K24 -> 0
A25: 3.4 | B25: Trường TH Chi Lăng | C25: =D25+E25 -> 2000000 | E25: 2000000 | F25: =G25+H25 -> 0 | I25: =C25-F25 -> 2000000 | K25: =I26 -> 2000000 | L25: =I25-J25+K25 -> 4000000
A26: 3.5 | B26: Trường TH Quảng Lạc | C26: =D26+E26 -> 43184000 | D26: 41184000 | E26: 2000000 | F26: =G26+H26 -> 41184000 | G26: 41184000 | I26: =C26-F26 -> 2000000 | J26: =I26 -> 2000000 | L26: =I26-J26+K26 -> 0
A27: 3.6 | B27: Trường THCS Chi Lăng | C27: =D27+E27 -> 115088000 | D27: 113088000 | E27: 2000000 | F27: =G27+H27 -> 113088000 | G27: 113088000 | I27: =C27-F27 -> 2000000 | K27: =I28 -> 2000000 | L27: =I27-J27+K27 -> 4000000
A28: 3.7 | B28: Trường THCS Quảng Lạc | C28: =D28+E28 -> 24464000 | D28: 22464000 | E28: 2000000 | F28: =G28+H28 -> 22464000 | G28: 22464000 | I28: =C28-F28 -> 2000000 | J28: =I28 -> 2000000 | L28: =I28-J28+K28 -> 0
A29: 4 | B29: Nhu cầu kinh phí phụ cấp ưu đãi dạy học sinh khuyết tật theo Nghị định 28/NĐ-CP năm học 2025-2026 | C29: =SUM(C30:C35) -> 1364000000 | D29: =SUM(D30:D35) -> 0 | E29: =SUM(E30:E35) -> 1364000000 | F29: =SUM(F30:F35) -> 0 | G29: =SUM(G30:G35) -> 0 | H29: =SUM(H30:H35) -> 0 | I29: =SUM(I30:I35) -> 1364000000 | J29: =SUM(J30:J35) -> 482000000 | ... L29: =SUM(L30:L35) -> 1364000000
A30: 4.1 | B30: Trường MN Quảng Lạc | C30: =D30+E30 -> 32000000 | E30: 32000000 | F30: =G30+H30 -> 0 | I30: =C30-F30 -> 32000000 | J30: =I30 -> 32000000
A31: 4.2 | B31: Trường MN 19/5 | C31: =D31+E31 -> 32000000 | E31: 32000000 | F31: =G31+H31 -> 0 | I31: =C31-F31 -> 32000000 | K31: =I30 -> 32000000 | L31: =I31-J31+K31 -> 64000000
A32: 4.3 | B32: Trường TH Chi Lăng | C32: =D32+E32 -> 350000000 | E32: 350000000 | F32: =G32+H32 -> 0 | I32: =C32-F32 -> 350000000 | K32: =I33 -> 250000000 | L32: =I32-J32+K32 -> 600000000
A33: 4.4 | B33: Trường TH Quảng Lạc | C33: =D33+E33 -> 250000000 | E33: 250000000 | F33: =G33+H33 -> 0 | I33: =C33-F33 -> 250000000 | J33: =I33 -> 250000000 | L33: =I33-J33+K33 -> 0
A34: 4.5 | B34: Trường THCS Chi Lăng | C34: =D34+E34 -> 500000000 | E34: 500000000 | F34: =G34+H34 -> 0 | I34: =C34-F34 -> 500000000 | K34: =I35 -> 200000000 | L34: =I34-J34+K34 -> 700000000
A35: 4.6 | B35: Trường THCS Quảng Lạc | C35: =D35+E35 -> 200000000 | E35: 200000000 | F35: =G35+H35 -> 0 | I35: =C35-F35 -> 200000000 | J35: =I35 -> 200000000
A36: II | B36: Kinh phí tinh giản biên chế NĐ 154/2025/NĐ-CP | C36: =C37 -> 620465000 | D36: =D37 -> 0 | E36: =E37 -> 620465000 | F36: =F37 -> 620465000 | G36: =G37 -> 0 | H36: =H37 -> 620465000 | I36: =I37 -> 0
A37: 1 | B37: Trường THCS Quảng Lạc | C37: =D37+E37 -> 620465000 | E37: 620465000 | F37: =G37+H37 -> 620465000 | H37: 620465000 | I37: =C37-F37 -> 0

Sheet B5
A2: BIỂU 5: DỰ TOÁN CHI NGÂN SÁCH TỪ NGUỒN BỔ SUNG MỤC TIÊU TRONG NĂM, CHUYỂN NGUỒN, KẾT DƯ CỦA XÃ, PHƯỜNG….
J5: Đơn vị: triệu đồng
A6: STT | B6: Nội dung | C6: Tổng cộng | D6: Văn phòng HĐND, UBND | E6: Phòng Kinh tế | F6: Phòng Văn hoã - Xã hội | G6: Trung tâm hành chính công | H6: Văn phòng đảng uỷ | I6: Uỷ ban Mặt trận TQ Việt Nam | J6: Trung tâm dịch vụ công ích phường | K6: Trường….
A7: A | B7: B | C7: 1 | D7: 2=3+.. | E7: 3 | F7: 4 | G7: 5 | H7: 6 | I7: 7 | J7: 8 | K7: 9
A8: I | B8: NGUỒN DỰ TOÁN BỔ SUNG TRONG NĂM | C8: =SUM(C9:C36) -> 16008
A9: 1 | B9: Kinh phí hỗ trợ Đề án phát triển giao thông nông thôn tỉnh Lạng Sơn, giai đoạn 2021 - 2025
A10: 2 | B10: Kinh phí thực hiện chính sách bảo hiểm y tế
A11: 3 | B11: Kinh phí thực hiện chế độ trợ cấp các đối tượng bảo trợ xã hội theo Nghị định số 20/2021/NĐ-CP ngày 15/3/2021 của Chính phủ; Nghị định số 76/2024/NĐ-CP ngày 01/7/2024 của Chính phủ
A12: 4 | B12: Kinh phí thực hiện chính sách tinh giản biên chế | C12: 11509
A13: 5 | B13: Kinh phí thực hiện Đề án xây dựng, quản lý, khai thác, bảo trì cầu trên đường giao thông nông thôn tỉnh Lạng Sơn, giai đoạn 2024 -2030
A14: 6 | B14: Kinh phí thu hồi tạm ứng kinh phí thực hiện dự án cầu Pắc Luồng, huyện Tràng Định
A15: 7 | B15: Kinh phí đầu tư xây dựng cơ bản thực hiện sắp xếp đơn vị hành chính cấp xã giai đoạn 2023 - 2025
A16: 8 | B16: Kinh phí hỗ trợ xoá nhà tạm, nhà dột nát | C16: 90
A17: 9 | B17: Kinh phí hỗ trợ bảo vệ phát triển đất trồng lúa năm 2025
A18: 10 | B18: Kinh phí sự nghiệp chương trình mục tiêu quốc gia giảm nghèo bền vững | C18: 500
A19: 11 | B19: Kinh phí tiền thưởng theo Nghị định số 73/2024/NĐ-CP ngày 30/6/2024 của Chính phủ | C19: 314
A20: 12 | B20: Kinh phí tổ chức chương trình giao lưu hội nghị quốc phòng biên giới Việt Trung
A21: 13 | B21: Kinh phí hỗ trợ tu bổ di tích nhà cao, phố cũ thị trấn Đình Lập, huyện Đình Lập
A22: 14 | B22: Kinh phí thực hiện Nghị định số 178/2024/NĐ-CP ngày 31/12/2024 và Nghị định số 67/2025/NĐ-CP ngày 15/3/2025 của Chính phủ
A23: 15 | B23: Kinh phí hỗ trợ lãi suất tín dụng theo Quyết định số 39/2007/QĐ-UBND ngày 21/12/2007 và Quyết định số 02/2017/QĐ-UBND ngày 09/02/2017 của Ủy ban nhân dân tỉnh; Nghị quyết số 08/2019/NQ-HĐND ngày 10/12/2019 và Nghị quyết số 15/2021/NQ-HĐND ngày 17/7/2021 của HĐND tỉnh
A24: 16 | B24: Kinh phí sự nghiệp chương trình mục tiêu quốc gia phát triển kinh tế xã hội vùng đồng bào dân tộc thiểu số và miền núi | C24: 334
A25: 17 | B25: Kinh phí Đại hội thể dục, thể thao
A26: 18 | B26: Hỗ trợ chi phí học tập và miễn giảm học phí theo Nghị định số 81/2021/NĐ-CP ngày 27/8/2021 của Chính phủ; Nghị định số 97/2023/NĐ-CP ngày 31/12/2023 của Chính phủ và kinh phí biên soạn lịch sử truyền thống
A27: 19 | B27: Kinh phí hỗ trợ xây dựng nông thôn mới (vốn đầu tư CTMTQG xây dựng nông thôn mới)
A28: 20 | B28: KP tổ chức Lễ phát động "Tết trồng cây đời đời nhớ ơn Bác Hồ" Xuân Ất Tỵ năm 2025
A29: 21 | B29: Kinh phí hỗ trợ đầu tư xây dựng cầu vào Đền Chi Lăng
A30: 22 | B30: Hỗ trợ huyện thực hiện thu phí năm 2024
A31: 23 | B31: Kinh phí hỗ trợ đầu tư cơ sở vật chất công nhận lại trường chuẩn năm 2025 tại Quyết định số 1329/QĐ-UBND ngày 20/6/2025 của UBND tỉnh
A32: 24 | B32: Kinh phí xử lý nước thải và vận hành hệ thống thoát nước | C32: 2761
A33: 25 | B33: Kinh phí thưởng vượt thu
A34: 26 | B34: Kinh phí hỗ trợ giáo viên mầm non ngoài công lập
A35: 27 | B35: Kinh phí thực hiện Tiểu dự án giải phóng mặt bằng thuộc dự án Đầu tư xây dựng tuyến cao tốc Đồng Đăng - Trà Lĩnh
A36: 28 | B36: Kinh phí hỗ trợ sắp xếp đơn vị hành chính cấp xã | C36: 500
A37: II | B37: NGUỒN CHUYỂN NGUỒN NĂM 2024 SANG NĂM 2025
A38: 1 | B38: Chi đầu tư phát triển thực hiện chuyển sang năm sau theo quy định của Luật đầu tư công. Trường hợp đặc biệt, Thủ tướng Chính phủ quyết định về việc cho phép chuyển nguồn sang năm sau nữa, nhưng không quá thời hạn giải ngân của dự án nằm trong kế hoạch đầu tư công trung hạn
B39: Chi tiết nhiệm vụ….
A40: 2 | B40: Chi mua sắm trang thiết bị đã đầy đủ hồ sơ, hợp đồng mua sắm trang thiết bị ký bước ngày 31 tháng 12 năm thực hiện dự toán
B41: Chi tiết nhiệm vụ….
A42: 3 | B42: Nguồn thực hiện chính sách tiền lương, phụ cấp, trợ cấp và các khoản tính theo tiền lương cơ sở, bảo trợ xã hội
B43: Chi tiết nhiệm vụ….
...
